{"text_format":"1","workbook":"xlsx","n_sheets":8,"sheets":["記入上の注意","参加申込書Ａ","参加申込書Ｂ","出品票作成","出品票","学校情報","全種別","summary"],"not_rendered":{"charts":0,"images":1,"macros":1,"external_links":0,"defined_names":2,"comments":1,"pivot_tables":0},"unopened":[],"bounds":{"document_bytes":16777216,"sheet_cells":100000,"rows_first":2000,"rows_last":500,"rows_between":2000,"halvings":0,"cell_chars":16384,"cell_head_chars":4096},"cells_cut":0,"cells_raw":0,"read":"whole","date_system":"1904"}

{"sheet":"記入上の注意","index":0,"n_rows":21,"n_cols":5,"rows_kept":21,"cut":false,"hidden":false,"merged":[[15,1,15,4],[7,1,7,4],[12,1,12,4],[18,1,18,4],[20,1,20,4]]}
["記入上の注意"]
[]
[1,"このファイルはマクロを使用しています。"]
[null,null,"Windowsの場合…",null,"メッセージ バー（黄色）にセキュリティの警告「マクロが無効にされました。」と表示された場合、「コンテンツの有効化」をクリックしてください。"]
[null,null,null,null,"「このファイルを信頼済みドキュメントにしますか？」と表示されますので「はい」を選択してください。"]
[null,null,"Macの場合………",null,"「マクロを無効にする」を選択した場合は、一度閉じて再度開き「マクロを有効にする」を選択してください。"]
[]
[2,"参加申込書Ａ（様式１-①）に必要事項を入力後、印刷・押印し、美術・工芸専門部事務局にお送りください。"]
[null,null,"〒621-0812 亀岡市横町23"]
[null,null,"京都府立亀岡高等学校内　担当教論　上原　悠介"]
[null,null,"TEL・FAX  0771-22-0144 （普通科美術・工芸専攻職員室）"]
[]
[3,"参加申込書Ｂ（様式１-②）に入力した後、このファイルをメールに添付して送信してください。\n（締め切り厳守）"]
[null,null,"E-mail","y-uehara-11@kyoto-be.ne.jp"]
[]
[4,"選択肢にあるものは該当項目を選択してください。作品の大きさは規格サイズの場合は選択してください。その他の場合はｃｍで入力してください。"]
[null,null,"例：　100×100×200　（その他の場合）"]
[]
[5,"名字と名前の間は半角スペースを入れてください。"]
[]
[6,"出品票（様式２）はトラック運送計画が決まってから作成してください。開催１ヶ月前を目安にお知らせします。"]

{"sheet":"参加申込書Ａ","index":1,"n_rows":40,"n_cols":5,"rows_kept":40,"cut":false,"hidden":false,"merged":[[39,0,39,4],[22,0,24,0],[31,3,31,4],[28,0,28,2],[20,2,21,2],[33,0,33,4],[22,2,24,2],[16,0,21,0],[6,1,6,4],[11,3,11,4],[32,0,32,4],[25,0,26,0],[1,0,1,4],[2,0,2,4],[5,1,5,4],[7,1,7,4],[8,3,8,4],[13,3,13,4],[10,3,10,4],[12,3,12,4],[15,3,15,4],[18,2,19,2]]}
["（様式１－①）",null,null,"学校No.",{"$f":"VLOOKUP($B$6,学校情報!$E$2:$M$89,2,FALSE)","v":0}]
["第36回京都府高等学校総合文化祭"]
["美術・工芸部門参加申込書　Ａ"]
[]
["申込日","選択してください","月","選択してください","日"]
["学校名","選択してください"]
["校長名",{"$f":"VLOOKUP($B$6,学校情報!$E$2:$M$89,3,FALSE)","v":"自動入力（必要があれば上書き修正してください）"}]
["部活動名"]
["電話",{"$f":"VLOOKUP($B$6,学校情報!$E$2:$M$89,8,FALSE)","v":"自動入力（上書入力可）"},"ＦＡＸ",{"$f":"VLOOKUP($B$6,学校情報!$E$2:$M$89,9,FALSE)","v":"自動入力（上書入力可）"}]
[]
["指導教員","氏名","メールアドレス","携帯、スマホ"]
["1（主顧問：必須）",{"$f":"VLOOKUP(B6,学校情報!$E$2:$M$89,4,FALSE)","v":"自動入力（上書入力可）"}]
["2（副顧問：任意）"]
["3（副顧問：任意）"]
[]
["区分","種別","大きさ・重量等※","出品点数"]
["平面\n（壁面展示）","絵 画","F,M,P,S30〜50号\n厚さ30cm以内",null,"点"]
[null,"版 画","F,M,P,S50号以内（下限なし）厚さ30cm以内",null,"点"]
[null,"デザイン","B2〜B1パネル仕立て\n厚さ30cm　重さ30kg以内",null,"点"]
[null,"イラストテーマ作品",null,null,"点"]
[null,"工 芸","縦200cm横100cm以内\n厚さ30cm　重さ30kg以内",null,"点"]
[null,"彫刻",null,null,"点"]
["立体\n（空間展示）","彫 刻","床面100cm×100cm×高さ200cm以内　重さ50kg以内",null,"点"]
[null,"デザイン",null,null,"点"]
[null,"工 芸",null,null,"点"]
["映像メディア","スクリーン展示","汎用性のある動画形式で３分以内\n（ノン・インタラクティブ作品）",null,"点"]
[null,"空間展示","立体作品の出品規格に準じる。",null,"点"]
[null,null,"※出品規定について、詳しくは実施要項をご確認ください。"]
["奨励賞（賞状）必要枚数",null,null,{"$f":"SUM(D17:D27)","v":0},"枚"]
[]
["次の欄は、府立学校のみ御記入下さい。※今年度は耐震工事のため中止（入力の必要はありません。）"]
["質問:総合文化祭後、府庁の展示作品に選ばれることについて",null,null,"選択してください"]
["条件・事情などがありましたら具体的に御記入ください。"]
[]
[]
[" 上記のとおり参加申し込みをします。"]
[{"$f":"\"令和元年\"&B5&\"月\"&D5&\"日\"","v":"令和元年選択してください月選択してください日"}]
["京都府高等学校文化連盟会長 様"]
[]
[{"$f":"B6&\"　　　　　　校　長　\"&$B$7&\"　　印\"","v":"選択してください　　　　　　校　長　自動入力（必要があれば上書き修正してください）　　印"}]

{"sheet":"参加申込書Ｂ","index":2,"n_rows":5,"n_cols":12,"rows_kept":5,"cut":false,"hidden":false,"merged":[[2,0,3,0],[2,1,3,1],[2,2,2,3],[2,4,2,5],[2,7,3,7],[2,8,2,9],[2,6,3,6],[0,3,0,4],[1,1,1,3],[0,5,0,11],[2,10,2,11],[1,5,1,6],[1,8,1,9]]}
["（様式１－②）",null,null,"←Ａを入力後、最初に一度だけクリックしてください。再度クリックすると情報がリセットされます。",null,"美術・工芸部門参加申込書 Ｂ"]
["学校名",{"$f":"参加申込書Ａ!B6","v":"選択してください"},null,null,"指導教員名",{"$f":"参加申込書Ａ!B12","v":"自動入力（上書入力可）"},null,"連絡先",{"$f":"参加申込書Ａ!C12&CHAR(13)&参加申込書Ａ!D12","v":"\r"},null,"作品点数",{"$f":"SUM(参加申込書Ａ!D17:D27)","v":0}]
["作品\n番号","学年","出品者名",null,"題　　　　名",null,"区分","種別","作品の大きさ",null,"参加確認"]
[null,null,"出品者名","ふりがな（出品者名）","題　　名","ふりがな（題名）",null,null,"作品の規格","平面：縦×横×厚さ\n立体：幅×奥行×高さ\n映像：動画形式、時間（分）\nアスペクト比","開会式","講評会"]
[1,1,"作者１","さくしゃ１","作品１","さくひん１","平面","絵画","F50号縦",{"$f":"IF(I5=\"その他\",\"\",IF(I5=\"\",\"\",\"入力不要\"))","v":"入力不要"},"参加","参加"]

{"sheet":"出品票作成","index":3,"n_rows":21,"n_cols":3,"rows_kept":21,"cut":false,"hidden":false,"merged":[]}
["出品票作成"]
[]
["トラック運送計画が決まってから作成してください。"]
[]
["トラック","選択","号車"]
[]
["「号車」を選択してから以下のボタンを1回クリックしてください。"]
["作品数分の出品票（シート）が作成されます。"]
[]
[]
[]
[]
[]
["作成された後、写真を挿入してください。"]
["写真の挿入は任意です。必須項目ではありません。"]
[]
["出品票の印刷"]
[]
["写真を挿入した後、印刷してください。"]
["シート「出品票」を選択し、Shiftキーを押しながら「出品票(n)」を選択します。"]
["この状態（複数シートを選択した状態）で印刷すると、必要な枚数の出品票が一度に出力されます。"]

{"sheet":"出品票","index":4,"n_rows":11,"n_cols":6,"rows_kept":11,"cut":false,"hidden":false,"merged":[[8,1,8,3],[10,1,10,3],[1,3,2,3],[3,1,3,3],[4,1,4,3],[5,1,5,3],[6,1,6,3],[7,1,7,3]]}
["（様式２）　　　"]
["第36回京都府高等学校総合文化祭",null,null,"美・工",null,"作品番号"]
["出  品  票",null,null,null,null,1]
["トラック",{"$f":"出品票作成!B5&\"号車\"","v":"選択号車"}]
["学校名",{"$f":"参加申込書Ａ!B6","v":"選択してください"}]
["ふりがな",{"$f":"VLOOKUP($F$3,参加申込書Ｂ!$A$5:$L$30,4,FALSE)","v":"さくしゃ１"}]
["出品者",{"$f":"VLOOKUP($F$3,参加申込書Ｂ!$A$5:$L$30,3,FALSE)","v":"作者１"}]
["ふりがな",{"$f":"VLOOKUP($F$3,参加申込書Ｂ!$A$5:$L$30,6,FALSE)","v":"さくひん１"}]
["題 名",{"$f":"VLOOKUP($F$3,参加申込書Ｂ!$A$5:$L$30,5,FALSE)","v":"作品１"}]
["区分",{"$f":"VLOOKUP($F$3,参加申込書Ｂ!$A$5:$L$30,7,FALSE)","v":"平面"},"種別",{"$f":"VLOOKUP($F$3,参加申込書Ｂ!$A$5:$L$30,8,FALSE)","v":"絵画"}]
["作品写真","「右クリック」→「画像の変更」で写真を挿入してください。\n作品が確認できる程度の画質で、歪みや傾きがあっても構いません。色調補正なども必要ありません。"]

{"sheet":"学校情報","index":5,"n_rows":90,"n_cols":14,"rows_kept":90,"cut":false,"hidden":false,"merged":[]}
["整理番号","分類","学校名","美術・工芸","学校正式名","学校No","校長名","顧問名","郵便番号","郵便番号ハイフンなし","住所","電話","FAX","E-mail"]
[0,"例","学校名",null,"選択してください",0,"自動入力（必要があれば上書き修正してください）","自動入力（上書入力可）","　","　","　","自動入力（上書入力可）","自動入力（上書入力可）"]
[1,"国立","京都教育大学附属",15,"京都教育大学附属高等学校",1,"谷口 和成","上岡 真志","612-0037",6120037,"京都府京都市伏見区深草関屋敷町111","075-641-9195","075-641-3871","kfkou1@kyokyo-u.ac.jp"]
[2,"府立","山城",6,"京都府立山城高等学校",2,"細野 吾","神谷 まり子","603-8335",6038335,"京都府京都市北区大将軍坂田町29","075-463-8261","075-463-8263","yamashiro-hs@pref.kyoto.lg.jp"]
[3,"府立","鴨沂",12,"京都府立鴨沂高等学校",3,"藤井 直","北嵜 葉子","602-0867",6020867,"京都市上京区寺町通荒神口下ル松蔭町131","075-231-1512","075-231-0220","ohki-hs@pref.kyoto.lg.jp"]
[4,"府立","洛北",15,"京都府立洛北高等学校",4,"山本 康一","小野 啓亘","606-0851",6060851,"京都府京都市左京区下鴨梅ノ木町59","075-781-0020","075-781-2520","rakuhoku-hs@pref.kyoto.lg.jp"]
[5,"府立","北稜",25,"京都府立北稜高等学校",5,"小畑 順二","奥村 陽子","606-0015",6060015,"京都府京都市左京区岩倉幡枝町154","075-701-2900","075-722-8400","hokuryou-hs@pref.kyoto.lg.jp"]
[6,"府立","朱雀",13,"京都府立朱雀高等学校",6,"増田 恒","人見 洋子","604-8384",6048384,"京都府京都市中京区西ノ京式部町1","075-841-0127","075-841-0646","suzaku-hs@pref.kyoto.lg.jp"]
[7,"府立","洛東",10,"京都府立洛東高等学校",7,"久米川 達弥","石橋 保","607-8017",6078017,"京都府京都市山科区安朱川向町10","075-581-1124","075-581-1125","rakutou-hs@pref.kyoto.lg.jp"]
[8,"府立","鳥羽",15,"京都府立鳥羽高等学校",8,"山埜 茂彦","矢野 和久","601-8449",6018449,"京都府京都市南区西九条大国町1","075-672-6788","075-691-7448","toba-hs@pref.kyoto.lg.jp"]
[9,"府立","嵯峨野",30,"京都府立嵯峨野高等学校",9,"小川 雅史","中村 七海","616-8226",6168226,"京都府京都市右京区常盤段ノ上町15","075-871-0723","075-871-0724","sagano-hs@pref.kyoto.lg.jp"]
[10,"府立","北嵯峨",15,"京都府立北嵯峨高等学校",10,"國府 功","堤 洋子","616-8353",6168353,"京都府京都市右京区嵯峨大沢柳井手町","075-872-1700","075-872-1701","kitasaga-hs@pref.kyoto.lg.jp"]
[11,"府立","北桑田",13,"京都府立北桑田高等学校",11,"德廣 剛","吉田 孝司","601-0534",6010534,"京都府京都市右京区京北町下弓削","075-854-0022","075-854-0310","kitakuwada-hs@pref.kyoto.lg.jp"]
[12,"府立","桂",9,"京都府立桂高等学校",12,"角井 弘之","越田 博文","615-8102",6158102,"京都府京都市西京区川島松ノ木本町27","075-391-2151","075-391-2153","katsura-hs@pref.kyoto.lg.jp"]
[13,"府立","洛西",14,"京都府立洛西高等学校",13,"川口 浩文","井内 義眞","610-1146",6101146,"京都府京都市西京区大原野西境谷町1丁目12-1.2","075-332-0555","075-332-0216","rakusai-hs@pref.kyoto.lg.jp"]
[14,"府立","桃山",26,"京都府立桃山高等学校",14,"畑 利忠","大竹 一司","612-0063",6120063,"京都府京都市伏見区桃山毛利長門東町8","075-601-8387","075-601-8388","momoyama-hs@pref.kyoto.lg.jp"]
[15,"府立","東稜",2,"京都府立東稜高等学校",15,"中嶋 知彦","太田 信也","601-1326",6011326,"京都府京都市伏見区醍醐新町裏町25-1","075-572-2323","075-572-2317","touryou-hs@pref.kyoto.lg.jp"]
[16,"府立","洛水",5,"京都府立洛水高等学校",16,"奥 芳文","福谷優孝","612-8283",6128283,"京都府京都市伏見区横大路向ヒ18","075-621-6330","075-621-6244","rakusui-hs@pref.kyoto.lg.jp"]
[18,"府立","向陽",0,"京都府立向陽高等学校",18,"鍔田 英希","小寺 竜典","617-0006",6170006,"京都府向日市上植野町西大田","075-922-4500","075-933-7200","kouyou-hs@pref.kyoto.lg.jp"]
[19,"府立","乙訓",11,"京都府立乙訓高等学校",19,"越智 雅之","今井 智宏","617-0843",6170843,"京都府長岡京市友岡1丁目1-1","075-951-1008","075-951-6701","otokuni-hs@pref.kyoto.lg.jp"]
[20,"府立","西乙訓",13,"京都府立西乙訓高等学校",20,"上垣 昌之","山野 悠子","617-0845",6170845,"京都府長岡京市下海印寺西明寺41","075-955-2210","075-955-2209","nisiotokuni-hs@pref.kyoto.lg.jp"]
[21,"府立","東宇治",10,"京都府立東宇治高等学校",21,"松本 啓二","村上 誠","611-0002",6110002,"京都府宇治市木幡平尾43-2","0774-32-6390","0774-32-6371","higasiuji-hs@pref.kyoto.lg.jp"]
[22,"府立","莵道",8,"京都府立莵道高等学校",22,"中 友明","熊本 恭子","611-0011",6110011,"京都府宇治市五ケ庄五雲峰4-1","0774-33-1691","0774-33-1696","todou-hs@pref.kyoto.lg.jp"]
[23,"府立","城南菱創",18,"京都府立城南菱創高等学校",23,"吉川 孝","國松 万琴","611-0042",6110042,"京都府宇治市小倉町南堀池","0774-23-5030","0774-23-5040","jyounanryousou-hs@pref.kyoto.lg.jp"]
[24,"府立","城陽",16,"京都府立城陽高等学校",24,"井上 弘一","友野 佐千子","610-0121",6100121,"京都府城陽市寺田宮ノ平1","0774-52-6811","0774-52-6812","jyouyou-hs@pref.kyoto.lg.jp"]
[25,"府立","西城陽",19,"京都府立西城陽高等学校",25,"稲川 孝幸","森 華苗","610-0117",6100117,"京都府城陽市枇杷庄京縄手46-1","0774-53-5455","0774-53-5459","nisijyouyou-hs@pref.kyoto.lg.jp"]
[26,"府立","京都八幡(南北キャンパスの計)",0,"京都府立京都八幡高等学校",26,"池辺 純次","長久保 怜美","614-8363",6148363,"京都府八幡市男山吉井7","075-981-3508","075-981-3509","kyoyawata-hs@pref.kyoto.lg.jp"]
[27,"府立","久御山",8,"京都府立久御山高等学校",27,"村上 佳代子","森永 雅章","613-0033",6130033,"京都府久世郡久御山町林北畑","0774-43-9611","0774-43-9619","kumiyama-hs@pref.kyoto.lg.jp"]
[28,"府立","田辺",16,"京都府立田辺高等学校",28,"今川 雅之","田中 善美","610-0361",6100361,"京都府京田辺市河原神谷24","0774-62-0572","0774-62-0573","tanabe-hs@pref.kyoto.lg.jp"]
[29,"府立","木津",15,"京都府立木津高等学校",29,"西田 隆","池田 宏","619-0214",6190214,"京都府木津川市木津内田山34","0774-72-0031","0774-72-0032","kizu-hs@pref.kyoto.lg.jp"]
[30,"府立","南陽",17,"京都府立南陽高等学校",30,"越野 泰徳","重村 ひろみ","619-0224",6190224,"京都府木津川市木津町兜台6丁目2","0774-72-8730","0774-72-8647","nannyou-hs@pref.kyoto.lg.jp"]
[31,"府立","亀岡",94,"京都府立亀岡高等学校",31,"境田 俊之","杉本まりえ","621-0812",6210812,"京都府亀岡市横町23","0771-22-0103","0771-22-0128","kameoka-hs@pref.kyoto.lg.jp"]
[32,"府立","南丹",6,"京都府立南丹高等学校",32,"川勝 啓史","三木 香里","621-0008",6210008,"京都府亀岡市馬路町中島1","0771-24-1821","0771-24-1868","nantan-hs@pref.kyoto.lg.jp"]
[33,"府立","園部",1,"京都府立園部高等学校",33,"伊藤 雅史","森 宏之","622-0004",6220004,"京都府南丹市園部町小桜町97","0771-62-0051","0771-62-0116","sonobe-hs@pref.kyoto.lg.jp"]
[35,"府立","須知",11,"京都府立須知高等学校",35,"平田 茂","仲 幸惠","622-0231",6220231,"京都府船井郡京丹波町豊田","0771-82-1171","0771-82-0017","syuuchi-hs@pref.kyoto.lg.jp"]
[36,"府立","綾部",7,"京都府立綾部高等学校",36,"岸田敏明","森田 真里亜","623-0042",6230042,"京都府綾部市岡町長田18","0773-42-0451","0773-42-0452","ayabe-hs@pref.kyoto.lg.jp"]
[37,"府立","綾部(東分校全日制)",1,"京都府立綾部高等学校",37,"岸田 敏明","森田 真里亜","623-0042",6230042,"京都府綾部市岡町長田18","0773-42-0451","0773-42-0452","ayabe-hs@pref.kyoto.lg.jp"]
[38,"府立","福知山",13,"京都府立福知山高等学校",38,"宮下 繁","幸田 美知代","620-0857",6200857,"京都府福知山市土師650","0773-27-2151","0773-27-2826","fukuchiyama-hs@pref.kyoto.lg.jp"]
[39,"府立","工業",6,"京都府立工業高等学校",39,"大島浩樹","榎原 香","620-0804",6200804,"京都府福知山市石原上野45","0773-27-5161","0773-27-5162","kougyou-hs@pref.kyoto.lg.jp"]
[40,"府立","大江",0,"京都府立大江高等学校",40,"永井 正樹","審良 憲昭","620-0303",6200303,"京都府福知山市大江町金屋578","0773-56-0033","0773-56-1120","ooe-hs@pref.kyoto.lg.jp"]
[41,"府立","東舞鶴",13,"京都府立東舞鶴高等学校",41,"塩尻 徹","川上 大介","625-0026",6250026,"京都府舞鶴市泉源寺766","0773-62-5510","0773-62-1451","higashimaizuru-hs@pref.kyoto.lg.jp"]
[42,"府立","西舞鶴",23,"京都府立西舞鶴高等学校",42,"松下 茂男","吉田 睦","624-0841",6240841,"京都府舞鶴市引土145","0773-75-3131","0773-75-5629","nishimaizuru-hs@pref.kyoto.lg.jp"]
[43,"府立","宮津",12,"京都府立宮津高等学校",43,"中道 浩","西田 鳩子","626-0034",6260034,"京都府宮津市滝馬23","0772-22-2116","0772-22-2117","miyazu-hs@pref.kyoto.lg.jp"]
[45,"府立","加悦谷",7,"京都府立加悦谷高等学校",45,"深田 聡","西村 宏美","629-2313",6292313,"京都府与謝郡与謝野町字三河内810","0772-42-2171","0772-42-2172","kayadani-hs@pref.kyoto.lg.jp"]
[46,"府立","峰山",10,"京都府立峰山高等学校",46,"長島 雅彦","東田 真央","627-0026",6270026,"京都府京丹後市峰山町古殿1185","0772-62-1012","0772-62-1013","mineyama-hs@pref.kyoto.lg.jp"]
[48,"府立","網野",9,"京都府立網野高等学校",48,"大村 孝志","山本あいみ","629-3101",6293101,"京都府京丹後市網野町網野2820","0772-72-0379","0772-72-0405","amino-hs@pref.kyoto.lg.jp"]
[49,"府立","久美浜",10,"京都府立久美浜高等学校",49,"平野 正樹","山下 豊子","629-3444",6293444,"京都府京丹後市久美浜町橋爪65","0772-82-0069","0772-82-0690","kumihama-hs@pref.kyoto.lg.jp"]
[51,"府立支援","聾",5,"京都府立聾学校",51,"芦田 雅哉","木村 和正","616-8092",6168092,"京都府京都市右京区御室大内町4","075-461-8121","075-461-8122","rou-s@pref.kyoto.lg.jp"]
[52,"府立支援","向日が丘支援",10,"京都府立向日が丘支援学校",52,"平岡 克也","太田早織","617-0813",6170813,"京都府長岡京市井ノ内朝日寺１１","075-951-8361",null,"mukougaoka-s@pref.kyoto.lg.jp"]
[56,"府立支援","南山城支援",0,"京都府立南山城支援学校",56,"丸岡恵真",0,"619-0231",6190231,"京都府相楽郡精華町山田医王寺1","0774-72-7255","0774-72-7256","minamiyamashiro-s@pref.kyoto.lg.jp"]
[62,"市立","銅駝美術工芸",0,"京都市立銅駝美術工芸高等学校",62,"吉田 功","中出 信昭","604-0902  ",6040902,"京都府京都市中京区土手町竹屋町下る鉾田町542","075-211-4984","075-211-8994"]
[64,"市立","堀川",6,"京都市立堀川高等学校",64,"谷内 秀一","山本 陽子","604-8254",6048254,"京都府京都市中京区堀川通蛸薬師南入","075-211-5351","075-211-8975"]
[65,"市立","日吉ケ丘",2,"京都市立日吉ケ丘高等学校",65,"古池強志","淺田一守","605-0977",6050977,"京都府京都市東山区泉涌寺山内町","075-561-4142","075-551-9046"]
[66,"市立","紫野",18,"京都市立紫野高等学校",66,"吉田 明弘","加藤 真沙子","603-8231",6038231,"京都府京都市北区紫野大徳寺町22","075-491-0221","075-492-0968"]
[67,"市立","塔南",8,"京都市立塔南高等学校",67,"小野 恭裕","旭 淳司","601-8348",6018348,"京都府京都市南区吉祥院観音堂町41","075-681-0701","075-682-7107"]
[68,"市立","工学院",10,"京都市立京都工学院高等学校",68,"砂田 浩彰","白尾 真由美","612-0884",6120884,"京都府京都市伏見区深草西出山町23","075-646-1515","075-646-1516"]
[69,"私立","大谷",14,"大谷高等学校",69,"飯山 等","有馬 景子","605-0965",6050965,"京都府京都市東山区今熊野池田町12","075-541-1312","075-541-7627"]
[70,"私立","京都学園",5,"京都学園高等学校",70,"佐々井 宏平","米田 実","616-8036",6168036,"京都府京都市右京区花園寺ノ中町8","075-461-5105","075-461-5138"]
[71,"私立","京都外大西",7,"京都外大西高等学校",71,"北村 聡","吉田 孝光","615-0074",6150074,"京都府京都市右京区山ノ内苗町37","075-321-0712","075-322-7733"]
[72,"私立","花園",11,"花園高等学校",72,"溜 剛","藤井 康彰","616-8034",6168034,"京都府京都市右京区花園木辻北町1","075-463-5221","075-464-9469"]
[73,"私立","東山",15,"東山高等学校",73,"奥田歓信","久世 貴章","606-8445",6068445,"京都府京都市左京区永観堂町51","075-771-9121","075-771-7217"]
[74,"私立","龍谷大学付属平安",4,"龍谷大学付属平安高等学校",74,"関目 六左衞門","宮永 良二郎","600-8267",6008267,"京都府京都市下京区大宮通七条上ル","075-361-4231","075-371-1793"]
[75,"私立","洛星",4,"洛星高等学校",75,"阿南孝也","藤岡 秀夫","603-8342",6038342,"京都府京都市北区小松原南町33","075-466-0001","075-466-0777"]
[76,"私立","洛南",17,"洛南高等学校",76,"北川 辰雄","樫 正浩","601-8478",6018478,"京都府京都市南区壬生通東寺町559番地","075-681-6511","075-671-1516"]
[77,"私立","立命館",6,"立命館高等学校",77,"文田 明良","柏倉 俊一","617-8577",6178577,"京都府長岡京市調子一丁目1-1","075-323-7111","075-323-7123"]
[79,"私立","京都文教",14,"京都文教高等学校",79,"初田 泰宏","西村 正和","606-8344",6068344,"京都府京都市左京区岡崎円勝寺町5","075-771-6155","075-752-6808"]
[80,"私立","華頂女子",5,"華頂女子高等学校",80,"中野 正明","小西 彰文","605-0062",6050062,"京都府京都市東山区林下町3丁目456","075-541-0391","075-541-5962"]
[81,"私立","京都女子",16,"京都女子高等学校",81,"林信康","山本 涼子","605-0926",6050926,"京都府京都市東山区今熊野北日吉町17","075-531-7358","075-531-7377"]
[82,"私立","京都精華学園",28,"京都精華学園中学高等学校",82,"山本 綱義","田尾 浩志","606-8305",6068305,"京都府京都市左京区吉田河原町5-1","075-771-4181","075-761-5238"]
[83,"私立","京都橘",10,"京都橘高等学校",83,"三輪欣之","勝野 玲子","612-8026",6128026,"京都府京都市伏見区桃山町伊賀50","075-623-0066","075-623-0070"]
[84,"私立","京都光華",7,"京都光華高等学校",84,"須原 理都子","本間 雅晴","615-0861",6150861,"京都府京都市右京区西京極野田町39","075-312-1783","075-311-6103"]
[85,"私立","京都産業大学附属",19,"京都産業大学附属高等学校",85,"福家 崇明","関 義之/遠藤 純江","600-8807 ",6008807,"京都府京都市下京区中堂寺命婦町1-10","075-279-0001","075-277-0300"]
[86,"私立","京都聖母学院",11,"京都聖母学院高等学校",86,"ブレットマックスウェル","河野 心佳","612-0878",6120878,"京都府京都市伏見区深草田谷町1","075-645-8103","075-641-0805"]
[87,"私立","京都西山",6,"京都西山高等学校",87,"塩田賢英","髙山 啓史","617-0002",6170002,"京都府向日市寺戸町西野辺25","075-934-2480"]
[88,"私立","ノートルダム女学院",11,"ノートルダム女学院高等学校",88,"栗本 嘉子","池田 智文","606-8423",6068423,"京都府京都市左京区鹿ケ谷桜谷町110","075-771-0570","075-752-1087"]
[89,"私立","平安女学院",9,"平安女学院高等学校",89,"今井 千和世","木佐貫","602-8013",6028013,"京都府京都市上京区下立売通烏丸西入","075-414-8111","075-414-8119"]
[90,"私立","京都明徳",27,"京都明徳高等学校",90,"二宮 庸介","仙田 陽子","610-1111",6101111,"京都府京都市西京区大枝東長町3-8","075-331-3361","075-331-8088"]
[91,"市立","洛陽総合",0,"京都市立洛陽総合高等学校",91,"土屋 智裕",0,"604-8453",6048453,"京都市中京区西ノ京春日町8","075-802-0394"]
[92,"私立","立命館宇治",19,"立命館宇治高等学校",92,"チャールズ フォックス","渡辺 儀輝","611-0031",6110031,"京都府宇治市広野町八軒屋谷33","0774-41-3000","0774-41-3555"]
[95,"私立","京都翔英",4,"京都翔英高等学校",95,"堤 清彰","田村 梨香","611-0013",6110013,"京都府宇治市菟道大垣内33-10","0774-23-2238","0774-23-9088"]
[96,"私立","同志社",11,"同志社高等学校",96,"山崎敏明","中澤 圭","606-8558",6068558,"京都府京都市左京区岩倉大鷺町89","075-781-7121","075-781-7124"]
[97,"私立","同志社女子",14,"同志社女子高等学校",97,"辻村 好","深野 雅之","602-0893",6020893,"京都府京都市上京区今出川通寺町西入","075-251-4305","075-251-4308"]
[98,"私立","同志社国際",4,"同志社国際高等学校",98,"戸田 光宣","北川  浩司","610-0321",6100321,"京都府京田辺市多々羅","0774-65-8911","0774-65-8990"]
[100,"私立","京都芸術",31,"京都芸術高等学校",100,"加藤 逹二","石川 綾子","611-0011",6110011,"京都府宇治市五ヶ庄西浦6-2","0774-32-7012","0774-33-3698"]
[101,"私立","京都共栄学園",7,"京都共栄学園高等学校",101,"國田 敦","金井 みのり","620-0933",6200933,"京都府福知山市篠尾62-5","0773-22-6241","0773-22-0968"]
[102,"府立","清明",8,"京都府立清明高等学校",102,"宮村 仁","山内 麻友美","603-8163",6038163,"京都府京都市北区小山南大野町","075-417-4031","075-417-4032","seimei-hs@pref.kyoto.lg.jp"]
[104,"府立","桃山定時制",8,"京都府立桃山高等学校",104,"畑  利忠","廣田 恵美","612-0063",6120063,"京都府京都市伏見区桃山毛利長門東町8","075-601-8387","075-601-8388","momoyama-hs@pref.kyoto.lg.jp"]
[105,"府立","福知山三和分校",1,"京都府立福知山高等学校三和分校",105,"宮下 繁",0,"620-1442",6201442,"京都府福知山市三和町千束小字橋ノ谷３５－１","0773-58-2049","0773-58-2049"]
[106,"府立","東舞鶴浮島分校",0,"東舞鶴高等学校浮島分校",106,"塩尻 徹","森戸 康博","625-0035",6250035,"京都府舞鶴市字溝尻150番地の13","0773-62-0536","0773-62-0566"]
[112,"私立","つくば開成",0,"京都つくば開成高等学校",112,"葉狩 忠司",0,"600-8320",6008320,"京都府京都市下京区西洞院七条上ル福本町406番地","075-371-0020","075-371-0021"]

{"sheet":"全種別","index":6,"n_rows":13,"n_cols":12,"rows_kept":13,"cut":false,"hidden":false,"merged":[[0,10,0,11],[0,7,1,7],[0,0,1,0],[0,1,1,1],[0,2,0,3],[0,4,0,5],[0,8,0,9],[0,6,1,6]]}
["作品\n番号","学年","出品者名",null,"題　　　　名",null,"区分","種別","作品の大きさ",null,"参加確認"]
[null,null,"出品者名","ふりがな（出品者名）","題　　名","ふりがな（題名）",null,null,"作品の規格","平面：縦×横×厚さ\n立体：幅×奥行×高さ\n映像：動画形式、時間（分）\nアスペクト比","開会式","講評会"]
[null,null,null,null,null,null,"平面","絵画",null,{"$f":"IF(I3=\"その他\",\"\",IF(I3=\"\",\"\",\"入力不要\"))","v":""}]
[null,null,null,null,null,null,"平面","版画",null,{"$f":"IF(I4=\"その他\",\"\",IF(I4=\"\",\"\",\"入力不要\"))","v":""}]
[null,null,null,null,null,null,"平面","デザイン",null,{"$f":"IF(I5=\"その他\",\"\",IF(I5=\"\",\"\",\"入力不要\"))","v":""}]
[null,null,null,null,null,null,"平面","イラストテーマ",null,{"$f":"IF(I6=\"その他\",\"\",IF(I6=\"\",\"\",\"入力不要\"))","v":""}]
[null,null,null,null,null,null,"平面",null,"その他"]
[null,null,null,null,null,null,"平面","彫刻","その他"]
[null,null,null,null,null,null,"立体","彫刻"]
[null,null,null,null,null,null,"立体","デザイン"]
[null,null,null,null,null,null,"立体"]
[null,null,null,null,null,null,"映像","スクリーン","その他"]
[null,null,null,null,null,null,"映像","空間","その他"]

{"sheet":"summary","index":7,"n_rows":30,"n_cols":27,"rows_kept":30,"cut":false,"hidden":false,"merged":[]}
["作品番号","学年","出品者名","ふりがな（出品者名）","題名","ふりがな（題名）","区分","種別","規格","サイズ","開会式","講評会","トラック号車","学校番号","学校名","電話","FAX","部名","指導教員名1","メールアドレス1","携帯1","指導教員名2","メールアドレス2","携帯2","指導教員名3","メールアドレス3","携帯3"]
[{"$f":"参加申込書Ｂ!A5","v":1},{"$f":"参加申込書Ｂ!B5","v":1},{"$f":"参加申込書Ｂ!C5","v":"作者１"},{"$f":"参加申込書Ｂ!D5","v":"さくしゃ１"},{"$f":"参加申込書Ｂ!E5","v":"作品１"},{"$f":"参加申込書Ｂ!F5","v":"さくひん１"},{"$f":"参加申込書Ｂ!G5","v":"平面"},{"$f":"参加申込書Ｂ!H5","v":"絵画"},{"$f":"参加申込書Ｂ!I5","v":"F50号縦"},{"$f":"参加申込書Ｂ!J5","v":"入力不要"},{"$f":"参加申込書Ｂ!K5","v":"参加"},{"$f":"参加申込書Ｂ!L5","v":"参加"},{"$f":"出品票作成!$B$5","v":"選択"},{"$f":"参加申込書Ａ!$E$1","v":0},{"$f":"参加申込書Ａ!$B$6","v":"選択してください"},{"$f":"参加申込書Ａ!$B$9","v":"自動入力（上書入力可）"},{"$f":"参加申込書Ａ!$D$9","v":"自動入力（上書入力可）"},{"$f":"参加申込書Ａ!$B$8","v":0},{"$f":"参加申込書Ａ!$B$12","v":"自動入力（上書入力可）"},{"$f":"参加申込書Ａ!$C$12","v":0},{"$f":"参加申込書Ａ!$D$12","v":0},{"$f":"参加申込書Ａ!$B$13","v":0},{"$f":"参加申込書Ａ!$C$13","v":0},{"$f":"参加申込書Ａ!$D$13","v":0},{"$f":"参加申込書Ａ!$B$14","v":0},{"$f":"参加申込書Ａ!$C$14","v":0},{"$f":"参加申込書Ａ!$D$14","v":0}]
[{"$f":"参加申込書Ｂ!A6","v":0},{"$f":"参加申込書Ｂ!B6","v":0},{"$f":"参加申込書Ｂ!C6","v":0},{"$f":"参加申込書Ｂ!D6","v":0},{"$f":"参加申込書Ｂ!E6","v":0},{"$f":"参加申込書Ｂ!F6","v":0},{"$f":"参加申込書Ｂ!G6","v":0},{"$f":"参加申込書Ｂ!H6","v":0},{"$f":"参加申込書Ｂ!I6","v":0},{"$f":"参加申込書Ｂ!J6","v":0},{"$f":"参加申込書Ｂ!K6","v":0},{"$f":"参加申込書Ｂ!L6","v":0},{"$f":"出品票作成!$B$5","v":"選択"},{"$f":"参加申込書Ａ!$E$1","v":0},{"$f":"参加申込書Ａ!$B$6","v":"選択してください"},{"$f":"参加申込書Ａ!$B$9","v":"自動入力（上書入力可）"},{"$f":"参加申込書Ａ!$D$9","v":"自動入力（上書入力可）"},{"$f":"参加申込書Ａ!$B$8","v":0},{"$f":"参加申込書Ａ!$B$12","v":"自動入力（上書入力可）"},{"$f":"参加申込書Ａ!$C$12","v":0},{"$f":"参加申込書Ａ!$D$12","v":0},{"$f":"参加申込書Ａ!$B$13","v":0},{"$f":"参加申込書Ａ!$C$13","v":0},{"$f":"参加申込書Ａ!$D$13","v":0},{"$f":"参加申込書Ａ!$B$14","v":0},{"$f":"参加申込書Ａ!$C$14","v":0},{"$f":"参加申込書Ａ!$D$14","v":0}]
[{"$f":"参加申込書Ｂ!A7","v":0},{"$f":"参加申込書Ｂ!B7","v":0},{"$f":"参加申込書Ｂ!C7","v":0},{"$f":"参加申込書Ｂ!D7","v":0},{"$f":"参加申込書Ｂ!E7","v":0},{"$f":"参加申込書Ｂ!F7","v":0},{"$f":"参加申込書Ｂ!G7","v":0},{"$f":"参加申込書Ｂ!H7","v":0},{"$f":"参加申込書Ｂ!I7","v":0},{"$f":"参加申込書Ｂ!J7","v":0},{"$f":"参加申込書Ｂ!K7","v":0},{"$f":"参加申込書Ｂ!L7","v":0},{"$f":"出品票作成!$B$5","v":"選択"},{"$f":"参加申込書Ａ!$E$1","v":0},{"$f":"参加申込書Ａ!$B$6","v":"選択してください"},{"$f":"参加申込書Ａ!$B$9","v":"自動入力（上書入力可）"},{"$f":"参加申込書Ａ!$D$9","v":"自動入力（上書入力可）"},{"$f":"参加申込書Ａ!$B$8","v":0},{"$f":"参加申込書Ａ!$B$12","v":"自動入力（上書入力可）"},{"$f":"参加申込書Ａ!$C$12","v":0},{"$f":"参加申込書Ａ!$D$12","v":0},{"$f":"参加申込書Ａ!$B$13","v":0},{"$f":"参加申込書Ａ!$C$13","v":0},{"$f":"参加申込書Ａ!$D$13","v":0},{"$f":"参加申込書Ａ!$B$14","v":0},{"$f":"参加申込書Ａ!$C$14","v":0},{"$f":"参加申込書Ａ!$D$14","v":0}]
[{"$f":"参加申込書Ｂ!A8","v":0},{"$f":"参加申込書Ｂ!B8","v":0},{"$f":"参加申込書Ｂ!C8","v":0},{"$f":"参加申込書Ｂ!D8","v":0},{"$f":"参加申込書Ｂ!E8","v":0},{"$f":"参加申込書Ｂ!F8","v":0},{"$f":"参加申込書Ｂ!G8","v":0},{"$f":"参加申込書Ｂ!H8","v":0},{"$f":"参加申込書Ｂ!I8","v":0},{"$f":"参加申込書Ｂ!J8","v":0},{"$f":"参加申込書Ｂ!K8","v":0},{"$f":"参加申込書Ｂ!L8","v":0},{"$f":"出品票作成!$B$5","v":"選択"},{"$f":"参加申込書Ａ!$E$1","v":0},{"$f":"参加申込書Ａ!$B$6","v":"選択してください"},{"$f":"参加申込書Ａ!$B$9","v":"自動入力（上書入力可）"},{"$f":"参加申込書Ａ!$D$9","v":"自動入力（上書入力可）"},{"$f":"参加申込書Ａ!$B$8","v":0},{"$f":"参加申込書Ａ!$B$12","v":"自動入力（上書入力可）"},{"$f":"参加申込書Ａ!$C$12","v":0},{"$f":"参加申込書Ａ!$D$12","v":0},{"$f":"参加申込書Ａ!$B$13","v":0},{"$f":"参加申込書Ａ!$C$13","v":0},{"$f":"参加申込書Ａ!$D$13","v":0},{"$f":"参加申込書Ａ!$B$14","v":0},{"$f":"参加申込書Ａ!$C$14","v":0},{"$f":"参加申込書Ａ!$D$14","v":0}]
[{"$f":"参加申込書Ｂ!A9","v":0},{"$f":"参加申込書Ｂ!B9","v":0},{"$f":"参加申込書Ｂ!C9","v":0},{"$f":"参加申込書Ｂ!D9","v":0},{"$f":"参加申込書Ｂ!E9","v":0},{"$f":"参加申込書Ｂ!F9","v":0},{"$f":"参加申込書Ｂ!G9","v":0},{"$f":"参加申込書Ｂ!H9","v":0},{"$f":"参加申込書Ｂ!I9","v":0},{"$f":"参加申込書Ｂ!J9","v":0},{"$f":"参加申込書Ｂ!K9","v":0},{"$f":"参加申込書Ｂ!L9","v":0},{"$f":"出品票作成!$B$5","v":"選択"},{"$f":"参加申込書Ａ!$E$1","v":0},{"$f":"参加申込書Ａ!$B$6","v":"選択してください"},{"$f":"参加申込書Ａ!$B$9","v":"自動入力（上書入力可）"},{"$f":"参加申込書Ａ!$D$9","v":"自動入力（上書入力可）"},{"$f":"参加申込書Ａ!$B$8","v":0},{"$f":"参加申込書Ａ!$B$12","v":"自動入力（上書入力可）"},{"$f":"参加申込書Ａ!$C$12","v":0},{"$f":"参加申込書Ａ!$D$12","v":0},{"$f":"参加申込書Ａ!$B$13","v":0},{"$f":"参加申込書Ａ!$C$13","v":0},{"$f":"参加申込書Ａ!$D$13","v":0},{"$f":"参加申込書Ａ!$B$14","v":0},{"$f":"参加申込書Ａ!$C$14","v":0},{"$f":"参加申込書Ａ!$D$14","v":0}]
[{"$f":"参加申込書Ｂ!A10","v":0},{"$f":"参加申込書Ｂ!B10","v":0},{"$f":"参加申込書Ｂ!C10","v":0},{"$f":"参加申込書Ｂ!D10","v":0},{"$f":"参加申込書Ｂ!E10","v":0},{"$f":"参加申込書Ｂ!F10","v":0},{"$f":"参加申込書Ｂ!G10","v":0},{"$f":"参加申込書Ｂ!H10","v":0},{"$f":"参加申込書Ｂ!I10","v":0},{"$f":"参加申込書Ｂ!J10","v":0},{"$f":"参加申込書Ｂ!K10","v":0},{"$f":"参加申込書Ｂ!L10","v":0},{"$f":"出品票作成!$B$5","v":"選択"},{"$f":"参加申込書Ａ!$E$1","v":0},{"$f":"参加申込書Ａ!$B$6","v":"選択してください"},{"$f":"参加申込書Ａ!$B$9","v":"自動入力（上書入力可）"},{"$f":"参加申込書Ａ!$D$9","v":"自動入力（上書入力可）"},{"$f":"参加申込書Ａ!$B$8","v":0},{"$f":"参加申込書Ａ!$B$12","v":"自動入力（上書入力可）"},{"$f":"参加申込書Ａ!$C$12","v":0},{"$f":"参加申込書Ａ!$D$12","v":0},{"$f":"参加申込書Ａ!$B$13","v":0},{"$f":"参加申込書Ａ!$C$13","v":0},{"$f":"参加申込書Ａ!$D$13","v":0},{"$f":"参加申込書Ａ!$B$14","v":0},{"$f":"参加申込書Ａ!$C$14","v":0},{"$f":"参加申込書Ａ!$D$14","v":0}]
[{"$f":"参加申込書Ｂ!A11","v":0},{"$f":"参加申込書Ｂ!B11","v":0},{"$f":"参加申込書Ｂ!C11","v":0},{"$f":"参加申込書Ｂ!D11","v":0},{"$f":"参加申込書Ｂ!E11","v":0},{"$f":"参加申込書Ｂ!F11","v":0},{"$f":"参加申込書Ｂ!G11","v":0},{"$f":"参加申込書Ｂ!H11","v":0},{"$f":"参加申込書Ｂ!I11","v":0},{"$f":"参加申込書Ｂ!J11","v":0},{"$f":"参加申込書Ｂ!K11","v":0},{"$f":"参加申込書Ｂ!L11","v":0},{"$f":"出品票作成!$B$5","v":"選択"},{"$f":"参加申込書Ａ!$E$1","v":0},{"$f":"参加申込書Ａ!$B$6","v":"選択してください"},{"$f":"参加申込書Ａ!$B$9","v":"自動入力（上書入力可）"},{"$f":"参加申込書Ａ!$D$9","v":"自動入力（上書入力可）"},{"$f":"参加申込書Ａ!$B$8","v":0},{"$f":"参加申込書Ａ!$B$12","v":"自動入力（上書入力可）"},{"$f":"参加申込書Ａ!$C$12","v":0},{"$f":"参加申込書Ａ!$D$12","v":0},{"$f":"参加申込書Ａ!$B$13","v":0},{"$f":"参加申込書Ａ!$C$13","v":0},{"$f":"参加申込書Ａ!$D$13","v":0},{"$f":"参加申込書Ａ!$B$14","v":0},{"$f":"参加申込書Ａ!$C$14","v":0},{"$f":"参加申込書Ａ!$D$14","v":0}]
[{"$f":"参加申込書Ｂ!A12","v":0},{"$f":"参加申込書Ｂ!B12","v":0},{"$f":"参加申込書Ｂ!C12","v":0},{"$f":"参加申込書Ｂ!D12","v":0},{"$f":"参加申込書Ｂ!E12","v":0},{"$f":"参加申込書Ｂ!F12","v":0},{"$f":"参加申込書Ｂ!G12","v":0},{"$f":"参加申込書Ｂ!H12","v":0},{"$f":"参加申込書Ｂ!I12","v":0},{"$f":"参加申込書Ｂ!J12","v":0},{"$f":"参加申込書Ｂ!K12","v":0},{"$f":"参加申込書Ｂ!L12","v":0},{"$f":"出品票作成!$B$5","v":"選択"},{"$f":"参加申込書Ａ!$E$1","v":0},{"$f":"参加申込書Ａ!$B$6","v":"選択してください"},{"$f":"参加申込書Ａ!$B$9","v":"自動入力（上書入力可）"},{"$f":"参加申込書Ａ!$D$9","v":"自動入力（上書入力可）"},{"$f":"参加申込書Ａ!$B$8","v":0},{"$f":"参加申込書Ａ!$B$12","v":"自動入力（上書入力可）"},{"$f":"参加申込書Ａ!$C$12","v":0},{"$f":"参加申込書Ａ!$D$12","v":0},{"$f":"参加申込書Ａ!$B$13","v":0},{"$f":"参加申込書Ａ!$C$13","v":0},{"$f":"参加申込書Ａ!$D$13","v":0},{"$f":"参加申込書Ａ!$B$14","v":0},{"$f":"参加申込書Ａ!$C$14","v":0},{"$f":"参加申込書Ａ!$D$14","v":0}]
[{"$f":"参加申込書Ｂ!A13","v":0},{"$f":"参加申込書Ｂ!B13","v":0},{"$f":"参加申込書Ｂ!C13","v":0},{"$f":"参加申込書Ｂ!D13","v":0},{"$f":"参加申込書Ｂ!E13","v":0},{"$f":"参加申込書Ｂ!F13","v":0},{"$f":"参加申込書Ｂ!G13","v":0},{"$f":"参加申込書Ｂ!H13","v":0},{"$f":"参加申込書Ｂ!I13","v":0},{"$f":"参加申込書Ｂ!J13","v":0},{"$f":"参加申込書Ｂ!K13","v":0},{"$f":"参加申込書Ｂ!L13","v":0},{"$f":"出品票作成!$B$5","v":"選択"},{"$f":"参加申込書Ａ!$E$1","v":0},{"$f":"参加申込書Ａ!$B$6","v":"選択してください"},{"$f":"参加申込書Ａ!$B$9","v":"自動入力（上書入力可）"},{"$f":"参加申込書Ａ!$D$9","v":"自動入力（上書入力可）"},{"$f":"参加申込書Ａ!$B$8","v":0},{"$f":"参加申込書Ａ!$B$12","v":"自動入力（上書入力可）"},{"$f":"参加申込書Ａ!$C$12","v":0},{"$f":"参加申込書Ａ!$D$12","v":0},{"$f":"参加申込書Ａ!$B$13","v":0},{"$f":"参加申込書Ａ!$C$13","v":0},{"$f":"参加申込書Ａ!$D$13","v":0},{"$f":"参加申込書Ａ!$B$14","v":0},{"$f":"参加申込書Ａ!$C$14","v":0},{"$f":"参加申込書Ａ!$D$14","v":0}]
[{"$f":"参加申込書Ｂ!A14","v":0},{"$f":"参加申込書Ｂ!B14","v":0},{"$f":"参加申込書Ｂ!C14","v":0},{"$f":"参加申込書Ｂ!D14","v":0},{"$f":"参加申込書Ｂ!E14","v":0},{"$f":"参加申込書Ｂ!F14","v":0},{"$f":"参加申込書Ｂ!G14","v":0},{"$f":"参加申込書Ｂ!H14","v":0},{"$f":"参加申込書Ｂ!I14","v":0},{"$f":"参加申込書Ｂ!J14","v":0},{"$f":"参加申込書Ｂ!K14","v":0},{"$f":"参加申込書Ｂ!L14","v":0},{"$f":"出品票作成!$B$5","v":"選択"},{"$f":"参加申込書Ａ!$E$1","v":0},{"$f":"参加申込書Ａ!$B$6","v":"選択してください"},{"$f":"参加申込書Ａ!$B$9","v":"自動入力（上書入力可）"},{"$f":"参加申込書Ａ!$D$9","v":"自動入力（上書入力可）"},{"$f":"参加申込書Ａ!$B$8","v":0},{"$f":"参加申込書Ａ!$B$12","v":"自動入力（上書入力可）"},{"$f":"参加申込書Ａ!$C$12","v":0},{"$f":"参加申込書Ａ!$D$12","v":0},{"$f":"参加申込書Ａ!$B$13","v":0},{"$f":"参加申込書Ａ!$C$13","v":0},{"$f":"参加申込書Ａ!$D$13","v":0},{"$f":"参加申込書Ａ!$B$14","v":0},{"$f":"参加申込書Ａ!$C$14","v":0},{"$f":"参加申込書Ａ!$D$14","v":0}]
[{"$f":"参加申込書Ｂ!A15","v":0},{"$f":"参加申込書Ｂ!B15","v":0},{"$f":"参加申込書Ｂ!C15","v":0},{"$f":"参加申込書Ｂ!D15","v":0},{"$f":"参加申込書Ｂ!E15","v":0},{"$f":"参加申込書Ｂ!F15","v":0},{"$f":"参加申込書Ｂ!G15","v":0},{"$f":"参加申込書Ｂ!H15","v":0},{"$f":"参加申込書Ｂ!I15","v":0},{"$f":"参加申込書Ｂ!J15","v":0},{"$f":"参加申込書Ｂ!K15","v":0},{"$f":"参加申込書Ｂ!L15","v":0},{"$f":"出品票作成!$B$5","v":"選択"},{"$f":"参加申込書Ａ!$E$1","v":0},{"$f":"参加申込書Ａ!$B$6","v":"選択してください"},{"$f":"参加申込書Ａ!$B$9","v":"自動入力（上書入力可）"},{"$f":"参加申込書Ａ!$D$9","v":"自動入力（上書入力可）"},{"$f":"参加申込書Ａ!$B$8","v":0},{"$f":"参加申込書Ａ!$B$12","v":"自動入力（上書入力可）"},{"$f":"参加申込書Ａ!$C$12","v":0},{"$f":"参加申込書Ａ!$D$12","v":0},{"$f":"参加申込書Ａ!$B$13","v":0},{"$f":"参加申込書Ａ!$C$13","v":0},{"$f":"参加申込書Ａ!$D$13","v":0},{"$f":"参加申込書Ａ!$B$14","v":0},{"$f":"参加申込書Ａ!$C$14","v":0},{"$f":"参加申込書Ａ!$D$14","v":0}]
[{"$f":"参加申込書Ｂ!A16","v":0},{"$f":"参加申込書Ｂ!B16","v":0},{"$f":"参加申込書Ｂ!C16","v":0},{"$f":"参加申込書Ｂ!D16","v":0},{"$f":"参加申込書Ｂ!E16","v":0},{"$f":"参加申込書Ｂ!F16","v":0},{"$f":"参加申込書Ｂ!G16","v":0},{"$f":"参加申込書Ｂ!H16","v":0},{"$f":"参加申込書Ｂ!I16","v":0},{"$f":"参加申込書Ｂ!J16","v":0},{"$f":"参加申込書Ｂ!K16","v":0},{"$f":"参加申込書Ｂ!L16","v":0},{"$f":"出品票作成!$B$5","v":"選択"},{"$f":"参加申込書Ａ!$E$1","v":0},{"$f":"参加申込書Ａ!$B$6","v":"選択してください"},{"$f":"参加申込書Ａ!$B$9","v":"自動入力（上書入力可）"},{"$f":"参加申込書Ａ!$D$9","v":"自動入力（上書入力可）"},{"$f":"参加申込書Ａ!$B$8","v":0},{"$f":"参加申込書Ａ!$B$12","v":"自動入力（上書入力可）"},{"$f":"参加申込書Ａ!$C$12","v":0},{"$f":"参加申込書Ａ!$D$12","v":0},{"$f":"参加申込書Ａ!$B$13","v":0},{"$f":"参加申込書Ａ!$C$13","v":0},{"$f":"参加申込書Ａ!$D$13","v":0},{"$f":"参加申込書Ａ!$B$14","v":0},{"$f":"参加申込書Ａ!$C$14","v":0},{"$f":"参加申込書Ａ!$D$14","v":0}]
[{"$f":"参加申込書Ｂ!A17","v":0},{"$f":"参加申込書Ｂ!B17","v":0},{"$f":"参加申込書Ｂ!C17","v":0},{"$f":"参加申込書Ｂ!D17","v":0},{"$f":"参加申込書Ｂ!E17","v":0},{"$f":"参加申込書Ｂ!F17","v":0},{"$f":"参加申込書Ｂ!G17","v":0},{"$f":"参加申込書Ｂ!H17","v":0},{"$f":"参加申込書Ｂ!I17","v":0},{"$f":"参加申込書Ｂ!J17","v":0},{"$f":"参加申込書Ｂ!K17","v":0},{"$f":"参加申込書Ｂ!L17","v":0},{"$f":"出品票作成!$B$5","v":"選択"},{"$f":"参加申込書Ａ!$E$1","v":0},{"$f":"参加申込書Ａ!$B$6","v":"選択してください"},{"$f":"参加申込書Ａ!$B$9","v":"自動入力（上書入力可）"},{"$f":"参加申込書Ａ!$D$9","v":"自動入力（上書入力可）"},{"$f":"参加申込書Ａ!$B$8","v":0},{"$f":"参加申込書Ａ!$B$12","v":"自動入力（上書入力可）"},{"$f":"参加申込書Ａ!$C$12","v":0},{"$f":"参加申込書Ａ!$D$12","v":0},{"$f":"参加申込書Ａ!$B$13","v":0},{"$f":"参加申込書Ａ!$C$13","v":0},{"$f":"参加申込書Ａ!$D$13","v":0},{"$f":"参加申込書Ａ!$B$14","v":0},{"$f":"参加申込書Ａ!$C$14","v":0},{"$f":"参加申込書Ａ!$D$14","v":0}]
[{"$f":"参加申込書Ｂ!A18","v":0},{"$f":"参加申込書Ｂ!B18","v":0},{"$f":"参加申込書Ｂ!C18","v":0},{"$f":"参加申込書Ｂ!D18","v":0},{"$f":"参加申込書Ｂ!E18","v":0},{"$f":"参加申込書Ｂ!F18","v":0},{"$f":"参加申込書Ｂ!G18","v":0},{"$f":"参加申込書Ｂ!H18","v":0},{"$f":"参加申込書Ｂ!I18","v":0},{"$f":"参加申込書Ｂ!J18","v":0},{"$f":"参加申込書Ｂ!K18","v":0},{"$f":"参加申込書Ｂ!L18","v":0},{"$f":"出品票作成!$B$5","v":"選択"},{"$f":"参加申込書Ａ!$E$1","v":0},{"$f":"参加申込書Ａ!$B$6","v":"選択してください"},{"$f":"参加申込書Ａ!$B$9","v":"自動入力（上書入力可）"},{"$f":"参加申込書Ａ!$D$9","v":"自動入力（上書入力可）"},{"$f":"参加申込書Ａ!$B$8","v":0},{"$f":"参加申込書Ａ!$B$12","v":"自動入力（上書入力可）"},{"$f":"参加申込書Ａ!$C$12","v":0},{"$f":"参加申込書Ａ!$D$12","v":0},{"$f":"参加申込書Ａ!$B$13","v":0},{"$f":"参加申込書Ａ!$C$13","v":0},{"$f":"参加申込書Ａ!$D$13","v":0},{"$f":"参加申込書Ａ!$B$14","v":0},{"$f":"参加申込書Ａ!$C$14","v":0},{"$f":"参加申込書Ａ!$D$14","v":0}]
[{"$f":"参加申込書Ｂ!A19","v":0},{"$f":"参加申込書Ｂ!B19","v":0},{"$f":"参加申込書Ｂ!C19","v":0},{"$f":"参加申込書Ｂ!D19","v":0},{"$f":"参加申込書Ｂ!E19","v":0},{"$f":"参加申込書Ｂ!F19","v":0},{"$f":"参加申込書Ｂ!G19","v":0},{"$f":"参加申込書Ｂ!H19","v":0},{"$f":"参加申込書Ｂ!I19","v":0},{"$f":"参加申込書Ｂ!J19","v":0},{"$f":"参加申込書Ｂ!K19","v":0},{"$f":"参加申込書Ｂ!L19","v":0},{"$f":"出品票作成!$B$5","v":"選択"},{"$f":"参加申込書Ａ!$E$1","v":0},{"$f":"参加申込書Ａ!$B$6","v":"選択してください"},{"$f":"参加申込書Ａ!$B$9","v":"自動入力（上書入力可）"},{"$f":"参加申込書Ａ!$D$9","v":"自動入力（上書入力可）"},{"$f":"参加申込書Ａ!$B$8","v":0},{"$f":"参加申込書Ａ!$B$12","v":"自動入力（上書入力可）"},{"$f":"参加申込書Ａ!$C$12","v":0},{"$f":"参加申込書Ａ!$D$12","v":0},{"$f":"参加申込書Ａ!$B$13","v":0},{"$f":"参加申込書Ａ!$C$13","v":0},{"$f":"参加申込書Ａ!$D$13","v":0},{"$f":"参加申込書Ａ!$B$14","v":0},{"$f":"参加申込書Ａ!$C$14","v":0},{"$f":"参加申込書Ａ!$D$14","v":0}]
[{"$f":"参加申込書Ｂ!A20","v":0},{"$f":"参加申込書Ｂ!B20","v":0},{"$f":"参加申込書Ｂ!C20","v":0},{"$f":"参加申込書Ｂ!D20","v":0},{"$f":"参加申込書Ｂ!E20","v":0},{"$f":"参加申込書Ｂ!F20","v":0},{"$f":"参加申込書Ｂ!G20","v":0},{"$f":"参加申込書Ｂ!H20","v":0},{"$f":"参加申込書Ｂ!I20","v":0},{"$f":"参加申込書Ｂ!J20","v":0},{"$f":"参加申込書Ｂ!K20","v":0},{"$f":"参加申込書Ｂ!L20","v":0},{"$f":"出品票作成!$B$5","v":"選択"},{"$f":"参加申込書Ａ!$E$1","v":0},{"$f":"参加申込書Ａ!$B$6","v":"選択してください"},{"$f":"参加申込書Ａ!$B$9","v":"自動入力（上書入力可）"},{"$f":"参加申込書Ａ!$D$9","v":"自動入力（上書入力可）"},{"$f":"参加申込書Ａ!$B$8","v":0},{"$f":"参加申込書Ａ!$B$12","v":"自動入力（上書入力可）"},{"$f":"参加申込書Ａ!$C$12","v":0},{"$f":"参加申込書Ａ!$D$12","v":0},{"$f":"参加申込書Ａ!$B$13","v":0},{"$f":"参加申込書Ａ!$C$13","v":0},{"$f":"参加申込書Ａ!$D$13","v":0},{"$f":"参加申込書Ａ!$B$14","v":0},{"$f":"参加申込書Ａ!$C$14","v":0},{"$f":"参加申込書Ａ!$D$14","v":0}]
[{"$f":"参加申込書Ｂ!A21","v":0},{"$f":"参加申込書Ｂ!B21","v":0},{"$f":"参加申込書Ｂ!C21","v":0},{"$f":"参加申込書Ｂ!D21","v":0},{"$f":"参加申込書Ｂ!E21","v":0},{"$f":"参加申込書Ｂ!F21","v":0},{"$f":"参加申込書Ｂ!G21","v":0},{"$f":"参加申込書Ｂ!H21","v":0},{"$f":"参加申込書Ｂ!I21","v":0},{"$f":"参加申込書Ｂ!J21","v":0},{"$f":"参加申込書Ｂ!K21","v":0},{"$f":"参加申込書Ｂ!L21","v":0},{"$f":"出品票作成!$B$5","v":"選択"},{"$f":"参加申込書Ａ!$E$1","v":0},{"$f":"参加申込書Ａ!$B$6","v":"選択してください"},{"$f":"参加申込書Ａ!$B$9","v":"自動入力（上書入力可）"},{"$f":"参加申込書Ａ!$D$9","v":"自動入力（上書入力可）"},{"$f":"参加申込書Ａ!$B$8","v":0},{"$f":"参加申込書Ａ!$B$12","v":"自動入力（上書入力可）"},{"$f":"参加申込書Ａ!$C$12","v":0},{"$f":"参加申込書Ａ!$D$12","v":0},{"$f":"参加申込書Ａ!$B$13","v":0},{"$f":"参加申込書Ａ!$C$13","v":0},{"$f":"参加申込書Ａ!$D$13","v":0},{"$f":"参加申込書Ａ!$B$14","v":0},{"$f":"参加申込書Ａ!$C$14","v":0},{"$f":"参加申込書Ａ!$D$14","v":0}]
[{"$f":"参加申込書Ｂ!A22","v":0},{"$f":"参加申込書Ｂ!B22","v":0},{"$f":"参加申込書Ｂ!C22","v":0},{"$f":"参加申込書Ｂ!D22","v":0},{"$f":"参加申込書Ｂ!E22","v":0},{"$f":"参加申込書Ｂ!F22","v":0},{"$f":"参加申込書Ｂ!G22","v":0},{"$f":"参加申込書Ｂ!H22","v":0},{"$f":"参加申込書Ｂ!I22","v":0},{"$f":"参加申込書Ｂ!J22","v":0},{"$f":"参加申込書Ｂ!K22","v":0},{"$f":"参加申込書Ｂ!L22","v":0},{"$f":"出品票作成!$B$5","v":"選択"},{"$f":"参加申込書Ａ!$E$1","v":0},{"$f":"参加申込書Ａ!$B$6","v":"選択してください"},{"$f":"参加申込書Ａ!$B$9","v":"自動入力（上書入力可）"},{"$f":"参加申込書Ａ!$D$9","v":"自動入力（上書入力可）"},{"$f":"参加申込書Ａ!$B$8","v":0},{"$f":"参加申込書Ａ!$B$12","v":"自動入力（上書入力可）"},{"$f":"参加申込書Ａ!$C$12","v":0},{"$f":"参加申込書Ａ!$D$12","v":0},{"$f":"参加申込書Ａ!$B$13","v":0},{"$f":"参加申込書Ａ!$C$13","v":0},{"$f":"参加申込書Ａ!$D$13","v":0},{"$f":"参加申込書Ａ!$B$14","v":0},{"$f":"参加申込書Ａ!$C$14","v":0},{"$f":"参加申込書Ａ!$D$14","v":0}]
[{"$f":"参加申込書Ｂ!A23","v":0},{"$f":"参加申込書Ｂ!B23","v":0},{"$f":"参加申込書Ｂ!C23","v":0},{"$f":"参加申込書Ｂ!D23","v":0},{"$f":"参加申込書Ｂ!E23","v":0},{"$f":"参加申込書Ｂ!F23","v":0},{"$f":"参加申込書Ｂ!G23","v":0},{"$f":"参加申込書Ｂ!H23","v":0},{"$f":"参加申込書Ｂ!I23","v":0},{"$f":"参加申込書Ｂ!J23","v":0},{"$f":"参加申込書Ｂ!K23","v":0},{"$f":"参加申込書Ｂ!L23","v":0},{"$f":"出品票作成!$B$5","v":"選択"},{"$f":"参加申込書Ａ!$E$1","v":0},{"$f":"参加申込書Ａ!$B$6","v":"選択してください"},{"$f":"参加申込書Ａ!$B$9","v":"自動入力（上書入力可）"},{"$f":"参加申込書Ａ!$D$9","v":"自動入力（上書入力可）"},{"$f":"参加申込書Ａ!$B$8","v":0},{"$f":"参加申込書Ａ!$B$12","v":"自動入力（上書入力可）"},{"$f":"参加申込書Ａ!$C$12","v":0},{"$f":"参加申込書Ａ!$D$12","v":0},{"$f":"参加申込書Ａ!$B$13","v":0},{"$f":"参加申込書Ａ!$C$13","v":0},{"$f":"参加申込書Ａ!$D$13","v":0},{"$f":"参加申込書Ａ!$B$14","v":0},{"$f":"参加申込書Ａ!$C$14","v":0},{"$f":"参加申込書Ａ!$D$14","v":0}]
[{"$f":"参加申込書Ｂ!A24","v":0},{"$f":"参加申込書Ｂ!B24","v":0},{"$f":"参加申込書Ｂ!C24","v":0},{"$f":"参加申込書Ｂ!D24","v":0},{"$f":"参加申込書Ｂ!E24","v":0},{"$f":"参加申込書Ｂ!F24","v":0},{"$f":"参加申込書Ｂ!G24","v":0},{"$f":"参加申込書Ｂ!H24","v":0},{"$f":"参加申込書Ｂ!I24","v":0},{"$f":"参加申込書Ｂ!J24","v":0},{"$f":"参加申込書Ｂ!K24","v":0},{"$f":"参加申込書Ｂ!L24","v":0},{"$f":"出品票作成!$B$5","v":"選択"},{"$f":"参加申込書Ａ!$E$1","v":0},{"$f":"参加申込書Ａ!$B$6","v":"選択してください"},{"$f":"参加申込書Ａ!$B$9","v":"自動入力（上書入力可）"},{"$f":"参加申込書Ａ!$D$9","v":"自動入力（上書入力可）"},{"$f":"参加申込書Ａ!$B$8","v":0},{"$f":"参加申込書Ａ!$B$12","v":"自動入力（上書入力可）"},{"$f":"参加申込書Ａ!$C$12","v":0},{"$f":"参加申込書Ａ!$D$12","v":0},{"$f":"参加申込書Ａ!$B$13","v":0},{"$f":"参加申込書Ａ!$C$13","v":0},{"$f":"参加申込書Ａ!$D$13","v":0},{"$f":"参加申込書Ａ!$B$14","v":0},{"$f":"参加申込書Ａ!$C$14","v":0},{"$f":"参加申込書Ａ!$D$14","v":0}]
[{"$f":"参加申込書Ｂ!A25","v":0},{"$f":"参加申込書Ｂ!B25","v":0},{"$f":"参加申込書Ｂ!C25","v":0},{"$f":"参加申込書Ｂ!D25","v":0},{"$f":"参加申込書Ｂ!E25","v":0},{"$f":"参加申込書Ｂ!F25","v":0},{"$f":"参加申込書Ｂ!G25","v":0},{"$f":"参加申込書Ｂ!H25","v":0},{"$f":"参加申込書Ｂ!I25","v":0},{"$f":"参加申込書Ｂ!J25","v":0},{"$f":"参加申込書Ｂ!K25","v":0},{"$f":"参加申込書Ｂ!L25","v":0},{"$f":"出品票作成!$B$5","v":"選択"},{"$f":"参加申込書Ａ!$E$1","v":0},{"$f":"参加申込書Ａ!$B$6","v":"選択してください"},{"$f":"参加申込書Ａ!$B$9","v":"自動入力（上書入力可）"},{"$f":"参加申込書Ａ!$D$9","v":"自動入力（上書入力可）"},{"$f":"参加申込書Ａ!$B$8","v":0},{"$f":"参加申込書Ａ!$B$12","v":"自動入力（上書入力可）"},{"$f":"参加申込書Ａ!$C$12","v":0},{"$f":"参加申込書Ａ!$D$12","v":0},{"$f":"参加申込書Ａ!$B$13","v":0},{"$f":"参加申込書Ａ!$C$13","v":0},{"$f":"参加申込書Ａ!$D$13","v":0},{"$f":"参加申込書Ａ!$B$14","v":0},{"$f":"参加申込書Ａ!$C$14","v":0},{"$f":"参加申込書Ａ!$D$14","v":0}]
[{"$f":"参加申込書Ｂ!A26","v":0},{"$f":"参加申込書Ｂ!B26","v":0},{"$f":"参加申込書Ｂ!C26","v":0},{"$f":"参加申込書Ｂ!D26","v":0},{"$f":"参加申込書Ｂ!E26","v":0},{"$f":"参加申込書Ｂ!F26","v":0},{"$f":"参加申込書Ｂ!G26","v":0},{"$f":"参加申込書Ｂ!H26","v":0},{"$f":"参加申込書Ｂ!I26","v":0},{"$f":"参加申込書Ｂ!J26","v":0},{"$f":"参加申込書Ｂ!K26","v":0},{"$f":"参加申込書Ｂ!L26","v":0},{"$f":"出品票作成!$B$5","v":"選択"},{"$f":"参加申込書Ａ!$E$1","v":0},{"$f":"参加申込書Ａ!$B$6","v":"選択してください"},{"$f":"参加申込書Ａ!$B$9","v":"自動入力（上書入力可）"},{"$f":"参加申込書Ａ!$D$9","v":"自動入力（上書入力可）"},{"$f":"参加申込書Ａ!$B$8","v":0},{"$f":"参加申込書Ａ!$B$12","v":"自動入力（上書入力可）"},{"$f":"参加申込書Ａ!$C$12","v":0},{"$f":"参加申込書Ａ!$D$12","v":0},{"$f":"参加申込書Ａ!$B$13","v":0},{"$f":"参加申込書Ａ!$C$13","v":0},{"$f":"参加申込書Ａ!$D$13","v":0},{"$f":"参加申込書Ａ!$B$14","v":0},{"$f":"参加申込書Ａ!$C$14","v":0},{"$f":"参加申込書Ａ!$D$14","v":0}]
[{"$f":"参加申込書Ｂ!A27","v":0},{"$f":"参加申込書Ｂ!B27","v":0},{"$f":"参加申込書Ｂ!C27","v":0},{"$f":"参加申込書Ｂ!D27","v":0},{"$f":"参加申込書Ｂ!E27","v":0},{"$f":"参加申込書Ｂ!F27","v":0},{"$f":"参加申込書Ｂ!G27","v":0},{"$f":"参加申込書Ｂ!H27","v":0},{"$f":"参加申込書Ｂ!I27","v":0},{"$f":"参加申込書Ｂ!J27","v":0},{"$f":"参加申込書Ｂ!K27","v":0},{"$f":"参加申込書Ｂ!L27","v":0},{"$f":"出品票作成!$B$5","v":"選択"},{"$f":"参加申込書Ａ!$E$1","v":0},{"$f":"参加申込書Ａ!$B$6","v":"選択してください"},{"$f":"参加申込書Ａ!$B$9","v":"自動入力（上書入力可）"},{"$f":"参加申込書Ａ!$D$9","v":"自動入力（上書入力可）"},{"$f":"参加申込書Ａ!$B$8","v":0},{"$f":"参加申込書Ａ!$B$12","v":"自動入力（上書入力可）"},{"$f":"参加申込書Ａ!$C$12","v":0},{"$f":"参加申込書Ａ!$D$12","v":0},{"$f":"参加申込書Ａ!$B$13","v":0},{"$f":"参加申込書Ａ!$C$13","v":0},{"$f":"参加申込書Ａ!$D$13","v":0},{"$f":"参加申込書Ａ!$B$14","v":0},{"$f":"参加申込書Ａ!$C$14","v":0},{"$f":"参加申込書Ａ!$D$14","v":0}]
[{"$f":"参加申込書Ｂ!A28","v":0},{"$f":"参加申込書Ｂ!B28","v":0},{"$f":"参加申込書Ｂ!C28","v":0},{"$f":"参加申込書Ｂ!D28","v":0},{"$f":"参加申込書Ｂ!E28","v":0},{"$f":"参加申込書Ｂ!F28","v":0},{"$f":"参加申込書Ｂ!G28","v":0},{"$f":"参加申込書Ｂ!H28","v":0},{"$f":"参加申込書Ｂ!I28","v":0},{"$f":"参加申込書Ｂ!J28","v":0},{"$f":"参加申込書Ｂ!K28","v":0},{"$f":"参加申込書Ｂ!L28","v":0},{"$f":"出品票作成!$B$5","v":"選択"},{"$f":"参加申込書Ａ!$E$1","v":0},{"$f":"参加申込書Ａ!$B$6","v":"選択してください"},{"$f":"参加申込書Ａ!$B$9","v":"自動入力（上書入力可）"},{"$f":"参加申込書Ａ!$D$9","v":"自動入力（上書入力可）"},{"$f":"参加申込書Ａ!$B$8","v":0},{"$f":"参加申込書Ａ!$B$12","v":"自動入力（上書入力可）"},{"$f":"参加申込書Ａ!$C$12","v":0},{"$f":"参加申込書Ａ!$D$12","v":0},{"$f":"参加申込書Ａ!$B$13","v":0},{"$f":"参加申込書Ａ!$C$13","v":0},{"$f":"参加申込書Ａ!$D$13","v":0},{"$f":"参加申込書Ａ!$B$14","v":0},{"$f":"参加申込書Ａ!$C$14","v":0},{"$f":"参加申込書Ａ!$D$14","v":0}]
[{"$f":"参加申込書Ｂ!A29","v":0},{"$f":"参加申込書Ｂ!B29","v":0},{"$f":"参加申込書Ｂ!C29","v":0},{"$f":"参加申込書Ｂ!D29","v":0},{"$f":"参加申込書Ｂ!E29","v":0},{"$f":"参加申込書Ｂ!F29","v":0},{"$f":"参加申込書Ｂ!G29","v":0},{"$f":"参加申込書Ｂ!H29","v":0},{"$f":"参加申込書Ｂ!I29","v":0},{"$f":"参加申込書Ｂ!J29","v":0},{"$f":"参加申込書Ｂ!K29","v":0},{"$f":"参加申込書Ｂ!L29","v":0},{"$f":"出品票作成!$B$5","v":"選択"},{"$f":"参加申込書Ａ!$E$1","v":0},{"$f":"参加申込書Ａ!$B$6","v":"選択してください"},{"$f":"参加申込書Ａ!$B$9","v":"自動入力（上書入力可）"},{"$f":"参加申込書Ａ!$D$9","v":"自動入力（上書入力可）"},{"$f":"参加申込書Ａ!$B$8","v":0},{"$f":"参加申込書Ａ!$B$12","v":"自動入力（上書入力可）"},{"$f":"参加申込書Ａ!$C$12","v":0},{"$f":"参加申込書Ａ!$D$12","v":0},{"$f":"参加申込書Ａ!$B$13","v":0},{"$f":"参加申込書Ａ!$C$13","v":0},{"$f":"参加申込書Ａ!$D$13","v":0},{"$f":"参加申込書Ａ!$B$14","v":0},{"$f":"参加申込書Ａ!$C$14","v":0},{"$f":"参加申込書Ａ!$D$14","v":0}]
[{"$f":"参加申込書Ｂ!A30","v":0},{"$f":"参加申込書Ｂ!B30","v":0},{"$f":"参加申込書Ｂ!C30","v":0},{"$f":"参加申込書Ｂ!D30","v":0},{"$f":"参加申込書Ｂ!E30","v":0},{"$f":"参加申込書Ｂ!F30","v":0},{"$f":"参加申込書Ｂ!G30","v":0},{"$f":"参加申込書Ｂ!H30","v":0},{"$f":"参加申込書Ｂ!I30","v":0},{"$f":"参加申込書Ｂ!J30","v":0},{"$f":"参加申込書Ｂ!K30","v":0},{"$f":"参加申込書Ｂ!L30","v":0},{"$f":"出品票作成!$B$5","v":"選択"},{"$f":"参加申込書Ａ!$E$1","v":0},{"$f":"参加申込書Ａ!$B$6","v":"選択してください"},{"$f":"参加申込書Ａ!$B$9","v":"自動入力（上書入力可）"},{"$f":"参加申込書Ａ!$D$9","v":"自動入力（上書入力可）"},{"$f":"参加申込書Ａ!$B$8","v":0},{"$f":"参加申込書Ａ!$B$12","v":"自動入力（上書入力可）"},{"$f":"参加申込書Ａ!$C$12","v":0},{"$f":"参加申込書Ａ!$D$12","v":0},{"$f":"参加申込書Ａ!$B$13","v":0},{"$f":"参加申込書Ａ!$C$13","v":0},{"$f":"参加申込書Ａ!$D$13","v":0},{"$f":"参加申込書Ａ!$B$14","v":0},{"$f":"参加申込書Ａ!$C$14","v":0},{"$f":"参加申込書Ａ!$D$14","v":0}]
[{"$f":"参加申込書Ｂ!A31","v":0},{"$f":"参加申込書Ｂ!B31","v":0},{"$f":"参加申込書Ｂ!C31","v":0},{"$f":"参加申込書Ｂ!D31","v":0},{"$f":"参加申込書Ｂ!E31","v":0},{"$f":"参加申込書Ｂ!F31","v":0},{"$f":"参加申込書Ｂ!G31","v":0},{"$f":"参加申込書Ｂ!H31","v":0},{"$f":"参加申込書Ｂ!I31","v":0},{"$f":"参加申込書Ｂ!J31","v":0},{"$f":"参加申込書Ｂ!K31","v":0},{"$f":"参加申込書Ｂ!L31","v":0},{"$f":"出品票作成!$B$5","v":"選択"},{"$f":"参加申込書Ａ!$E$1","v":0},{"$f":"参加申込書Ａ!$B$6","v":"選択してください"},{"$f":"参加申込書Ａ!$B$9","v":"自動入力（上書入力可）"},{"$f":"参加申込書Ａ!$D$9","v":"自動入力（上書入力可）"},{"$f":"参加申込書Ａ!$B$8","v":0},{"$f":"参加申込書Ａ!$B$12","v":"自動入力（上書入力可）"},{"$f":"参加申込書Ａ!$C$12","v":0},{"$f":"参加申込書Ａ!$D$12","v":0},{"$f":"参加申込書Ａ!$B$13","v":0},{"$f":"参加申込書Ａ!$C$13","v":0},{"$f":"参加申込書Ａ!$D$13","v":0},{"$f":"参加申込書Ａ!$B$14","v":0},{"$f":"参加申込書Ａ!$C$14","v":0},{"$f":"参加申込書Ａ!$D$14","v":0}]
[{"$f":"参加申込書Ｂ!A32","v":0},{"$f":"参加申込書Ｂ!B32","v":0},{"$f":"参加申込書Ｂ!C32","v":0},{"$f":"参加申込書Ｂ!D32","v":0},{"$f":"参加申込書Ｂ!E32","v":0},{"$f":"参加申込書Ｂ!F32","v":0},{"$f":"参加申込書Ｂ!G32","v":0},{"$f":"参加申込書Ｂ!H32","v":0},{"$f":"参加申込書Ｂ!I32","v":0},{"$f":"参加申込書Ｂ!J32","v":0},{"$f":"参加申込書Ｂ!K32","v":0},{"$f":"参加申込書Ｂ!L32","v":0},{"$f":"出品票作成!$B$5","v":"選択"},{"$f":"参加申込書Ａ!$E$1","v":0},{"$f":"参加申込書Ａ!$B$6","v":"選択してください"},{"$f":"参加申込書Ａ!$B$9","v":"自動入力（上書入力可）"},{"$f":"参加申込書Ａ!$D$9","v":"自動入力（上書入力可）"},{"$f":"参加申込書Ａ!$B$8","v":0},{"$f":"参加申込書Ａ!$B$12","v":"自動入力（上書入力可）"},{"$f":"参加申込書Ａ!$C$12","v":0},{"$f":"参加申込書Ａ!$D$12","v":0},{"$f":"参加申込書Ａ!$B$13","v":0},{"$f":"参加申込書Ａ!$C$13","v":0},{"$f":"参加申込書Ａ!$D$13","v":0},{"$f":"参加申込書Ａ!$B$14","v":0},{"$f":"参加申込書Ａ!$C$14","v":0},{"$f":"参加申込書Ａ!$D$14","v":0}]
[{"$f":"参加申込書Ｂ!A33","v":0},{"$f":"参加申込書Ｂ!B33","v":0},{"$f":"参加申込書Ｂ!C33","v":0},{"$f":"参加申込書Ｂ!D33","v":0},{"$f":"参加申込書Ｂ!E33","v":0},{"$f":"参加申込書Ｂ!F33","v":0},{"$f":"参加申込書Ｂ!G33","v":0},{"$f":"参加申込書Ｂ!H33","v":0},{"$f":"参加申込書Ｂ!I33","v":0},{"$f":"参加申込書Ｂ!J33","v":0},{"$f":"参加申込書Ｂ!K33","v":0},{"$f":"参加申込書Ｂ!L33","v":0},{"$f":"出品票作成!$B$5","v":"選択"},{"$f":"参加申込書Ａ!$E$1","v":0},{"$f":"参加申込書Ａ!$B$6","v":"選択してください"},{"$f":"参加申込書Ａ!$B$9","v":"自動入力（上書入力可）"},{"$f":"参加申込書Ａ!$D$9","v":"自動入力（上書入力可）"},{"$f":"参加申込書Ａ!$B$8","v":0},{"$f":"参加申込書Ａ!$B$12","v":"自動入力（上書入力可）"},{"$f":"参加申込書Ａ!$C$12","v":0},{"$f":"参加申込書Ａ!$D$12","v":0},{"$f":"参加申込書Ａ!$B$13","v":0},{"$f":"参加申込書Ａ!$C$13","v":0},{"$f":"参加申込書Ａ!$D$13","v":0},{"$f":"参加申込書Ａ!$B$14","v":0},{"$f":"参加申込書Ａ!$C$14","v":0},{"$f":"参加申込書Ａ!$D$14","v":0}]