{"text_format":"1","workbook":"xlsx","n_sheets":10,"sheets":["記入上の注意","参加申込書Ａ","参加申込書Ｂ","運営要員調査票","出品票作成","出品票","学校情報（これより右のシートは入力・印刷不要）","全種別","summary","summary (2)"],"not_rendered":{"charts":0,"images":1,"macros":1,"external_links":0,"defined_names":3,"comments":2,"pivot_tables":0},"unopened":[],"bounds":{"document_bytes":16777216,"sheet_cells":100000,"rows_first":2000,"rows_last":500,"rows_between":2000,"halvings":0,"cell_chars":16384,"cell_head_chars":4096},"cells_cut":0,"cells_raw":0,"read":"whole","date_system":"1904"}

{"sheet":"記入上の注意","index":0,"n_rows":23,"n_cols":5,"rows_kept":23,"cut":false,"hidden":false,"merged":[[23,1,23,4],[15,1,15,4],[7,1,7,4],[12,1,12,4],[18,1,18,4],[22,1,22,4],[20,1,20,4]]}
["記入上の注意"]
[]
[1,"このファイルはマクロを使用しています。"]
[null,null,"Windowsの場合…",null,"メッセージバー（黄色）にセキュリティの警告「マクロが無効にされました。」と表示された場合、「コンテンツの有効化」をクリックしてください。"]
[null,null,null,null,"「このファイルを信頼済みドキュメントにしますか？」と表示されますので「はい」を選択してください。"]
[null,null,"Macの場合………",null,"「マクロを無効にする」を選択した場合は、一度閉じて再度開き「マクロを有効にする」を選択してください。"]
[]
[2,"必要事項を入力後、印刷し参加申込書Ａ（様式１-①）に押印して美術・工芸専門部事務局にお送りください。"]
[null,null,"〒621-0812 亀岡市横町23"]
[null,null,"京都府立亀岡高等学校内　担当教論　吉田　睦"]
[null,null,"TEL・FAX  0771-22-0144 （普通科美術・工芸専攻職員室）"]
[]
[3,"入力後、このファイルをメールに添付して送信してください。\n（締め切り厳守）"]
[null,null,"E-mail","m-yoshida-15@kyoto-be.ne.jp"]
[]
[4,"選択肢にあるものは該当項目を選択してください。作品の大きさは規格サイズの場合は選択してください。その他の場合はｃｍで入力してください。"]
[null,null,"例：　100×100×200　（その他の場合）"]
[]
[5,"名字と名前の間は半角スペースを入れてください。"]
[]
[6,"作者によるコメント・解説を60文字以内で入力してください。"]
[]
[7,"出品票（様式２）はトラック運送計画が決まってから作成してください。開催１ヶ月前を目安にお知らせします。\n作成の前に、プログラム校正用のPDFを参照して、参加申込書Ｂの「作品番号」を入力してください。"]

{"sheet":"参加申込書Ａ","index":1,"n_rows":40,"n_cols":5,"rows_kept":40,"cut":false,"hidden":false,"merged":[[6,1,6,4],[11,3,11,4],[32,0,32,4],[25,0,26,0],[1,0,1,4],[2,0,2,4],[5,1,5,4],[7,1,7,4],[8,3,8,4],[13,3,13,4],[10,3,10,4],[12,3,12,4],[15,3,15,4],[18,2,19,2],[39,0,39,4],[22,0,24,0],[31,3,31,4],[28,0,28,2],[20,2,21,2],[33,0,33,4],[22,2,24,2],[16,0,21,0]]}
["（様式１－①）",null,null,"学校No.",{"$f":"VLOOKUP($B$6,'学校情報（これより右のシートは入力・印刷不要）'!$E$2:$K$120,2,FALSE)","v":0}]
["第40回京都府高等学校総合文化祭"]
["美術・工芸部門参加申込書　Ａ"]
[]
["申込日","選択してください","月","選択してください","日"]
["学校名","選択してください"]
["校長名"]
["部活動名"]
["電話",{"$f":"VLOOKUP($B$6,'学校情報（これより右のシートは入力・印刷不要）'!$E$2:$K$120,6,FALSE)","v":"自動入力（上書入力可）"},"ＦＡＸ",{"$f":"VLOOKUP($B$6,'学校情報（これより右のシートは入力・印刷不要）'!$E$2:$K$120,7,FALSE)","v":"自動入力（上書入力可）"}]
[]
["指導教員","氏名","メールアドレス","携帯、スマホ"]
["1（主顧問：必須）"]
["2（副顧問：任意）"]
["3（副顧問：任意）"]
[]
["区分","種別","大きさ・重量等※","出品点数"]
["平面\n（壁面展示）","絵 画","F,M,P,S30〜50号\n厚さ30cm以内",null,"点"]
[null,"版 画","F,M,P,S50号以内（下限なし）厚さ30cm以内",null,"点"]
[null,"デザイン","B2〜B1パネル仕立て\n厚さ30cm　重さ30kg以内",null,"点"]
[null,"テーマ作品の部",null,null,"点"]
[null,"工 芸","縦200cm横100cm以内\n厚さ30cm　重さ30kg以内",null,"点"]
[null,"彫刻",null,null,"点"]
["立体\n（空間展示）","彫 刻","床面100cm×100cm×高さ200cm以内　重さ50kg以内",null,"点"]
[null,"デザイン",null,null,"点"]
[null,"工 芸",null,null,"点"]
["映像メディア","スクリーン展示","汎用性のある動画形式で３分以内\n（ノン・インタラクティブ作品）",null,"点"]
[null,"空間展示","立体作品の出品規格に準じる。",null,"点"]
[null,null,"※出品規定について、詳しくは実施要項をご確認ください。"]
["奨励賞（賞状）必要枚数",null,null,{"$f":"SUM(D17:D27)","v":0},"枚"]
[]
["次の欄は、府立学校のみ御記入下さい。※今年度は耐震工事のため中止（入力の必要はありません。）"]
["質問:総合文化祭後、府庁の展示作品に選ばれることについて",null,null,"選択してください"]
["条件・事情などがありましたら具体的に御記入ください。"]
[]
[]
[" 上記のとおり参加申し込みをします。"]
[{"$f":"\"令和５年\"&B5&\"月\"&D5&\"日\"","v":"令和５年選択してください月選択してください日"}]
["京都府高等学校文化連盟会長 様"]
[]
[{"$f":"B6&\"　　　　　　校　長　\"&$B$7&\"　　印\"","v":"選択してください　　　　　　校　長　　　印"}]

{"sheet":"参加申込書Ｂ","index":2,"n_rows":5,"n_cols":13,"rows_kept":5,"cut":false,"hidden":false,"merged":[[2,8,2,9],[2,6,3,6],[0,3,0,4],[1,1,1,3],[0,5,0,12],[2,11,2,12],[1,5,1,6],[1,8,1,10],[2,10,3,10],[2,0,3,0],[2,1,3,1],[2,2,2,3],[2,4,2,5],[2,7,3,7]]}
["（様式１－②）",null,null,"←Ａを入力後、最初に一度だけクリックしてください。再度クリックすると情報がリセットされます。",null,"美術・工芸部門参加申込書 Ｂ"]
["学校名",{"$f":"参加申込書Ａ!B6","v":"選択してください"},null,null,"指導教員名",{"$f":"参加申込書Ａ!B12","v":0},null,"連絡先",{"$f":"参加申込書Ａ!C12&CHAR(13)&\" , \"&参加申込書Ａ!D12","v":"\r , "},null,null,"作品点数",{"$f":"SUM(参加申込書Ａ!D17:D27)","v":0}]
["作品\n番号","学年","出品者名",null,"題　　　　名",null,"区分","種別","作品の大きさ",null,"コメント","参加確認"]
[null,null,"出品者名","ふりがな（出品者名）","題　　名","ふりがな（題名）",null,null,"作品の規格","平面：縦×横×厚さ\n立体：幅×奥行×高さ\n映像：動画形式、時間（分）\nアスペクト比",null,"開会式","講評会"]
[1,1,"作者１","さくしゃ１","作品１","さくひん１","平面","絵画","F50号縦",{"$f":"IF(I5=\"その他\",\"\",IF(I5=\"\",\"\",\"入力不要\"))","v":"入力不要"},"作者によるコメント（60文字以内）","実施なし","参加"]

{"sheet":"運営要員調査票","index":3,"n_rows":10,"n_cols":13,"rows_kept":10,"cut":false,"hidden":false,"merged":[[0,8,0,11],[0,4,0,7]]}
["（様式１－③）","運営要員調査票",null,"10月20日\n（金）","10月21日\n（土）",null,null,null,"10月22日\n（日）"]
[null,null,null,"搬入","受付","受付","受付","受付","受付","受付","受付","搬出"]
["指導教員","氏名","講評会講師","9:00\n～\n17:00","9:00\n～\n11:00","11:00\n～\n13:00","13:00\n～\n15:00","15:00\n～\n17:00","9:00\n～\n11:00","11:00\n～\n13:00","13:00\n～\n15:00","15:00\n～\n17:00","備考"]
["1（主顧問）",{"$f":"参加申込書Ａ!B12","v":0}]
["2（副顧問）",{"$f":"参加申込書Ａ!B13","v":0}]
["3（副顧問）",{"$f":"参加申込書Ａ!B14","v":0}]
[]
["記入上の注意"]
["・搬入、搬出には必ず１名以上参加してください。"]
["・芸術科(美術・工芸)の免許をお持ちの先生は講師として御協力をお願いします。"]

{"sheet":"出品票作成","index":4,"n_rows":21,"n_cols":3,"rows_kept":21,"cut":false,"hidden":false,"merged":[]}
["出品票作成"]
[]
["トラック運送計画が決まってから作成してください。"]
["作成の前に、プログラム校正用のPDFを参照して、参加申込書Ｂの「作品番号」を入力してください。"]
[]
["トラック","選択","号車"]
[]
["「号車」を選択してから以下のボタンを1回クリックしてください。"]
["作品数分の出品票（シート）が作成されます。"]
[]
[]
[]
[]
[]
["作成の後、写真を挿入してください。"]
[]
["出品票の印刷"]
[]
["写真を挿入した後、印刷してください。"]
["シート「出品票」を選択し、Shiftキーを押しながら「出品票(n)」を選択します。"]
["この状態（複数シートを選択した状態）で印刷すると、必要な枚数の出品票が一度に出力されます。"]

{"sheet":"出品票","index":5,"n_rows":11,"n_cols":6,"rows_kept":11,"cut":false,"hidden":false,"merged":[[8,1,8,3],[10,1,10,3],[1,3,2,3],[3,1,3,3],[4,1,4,3],[5,1,5,3],[6,1,6,3],[7,1,7,3]]}
["（様式２）　　　"]
["第40回京都府高等学校総合文化祭",null,"No.","美・工",null,"作品番号"]
["出  品  票",null,{"$f":"F3","v":1},null,null,{"$f":"参加申込書Ｂ!A5","v":1}]
["トラック",{"$f":"出品票作成!B6&\"号車\"","v":"選択号車"}]
["学校名",{"$f":"参加申込書Ａ!B6","v":"選択してください"}]
["ふりがな",{"$f":"VLOOKUP($F$3,参加申込書Ｂ!$A$5:$M$30,4,FALSE)","v":"さくしゃ１"}]
["出品者",{"$f":"VLOOKUP($F$3,参加申込書Ｂ!$A$5:$M$30,3,FALSE)","v":"作者１"}]
["ふりがな",{"$f":"VLOOKUP($F$3,参加申込書Ｂ!$A$5:$M$30,6,FALSE)","v":"さくひん１"}]
["題 名",{"$f":"VLOOKUP($F$3,参加申込書Ｂ!$A$5:$M$30,5,FALSE)","v":"作品１"}]
["区分",{"$f":"VLOOKUP($F$3,参加申込書Ｂ!$A$5:$M$30,7,FALSE)","v":"平面"},"種別",{"$f":"VLOOKUP($F$3,参加申込書Ｂ!$A$5:$M$30,8,FALSE)","v":"絵画"}]
["作品写真","「右クリック」→「画像の変更」で写真を挿入してください。\n作品が確認できる程度の画質で、歪みや傾きがあっても構いません。色調補正なども必要ありません。"]

{"sheet":"学校情報（これより右のシートは入力・印刷不要）","index":6,"n_rows":120,"n_cols":12,"rows_kept":120,"cut":false,"hidden":false,"merged":[]}
["整理番号","分類","学校名","美術・工芸","学校正式名","学校No","郵便番号","郵便番号ハイフンなし","住所","電話","FAX","E-mail"]
[0,"例","学校名",null,"選択してください",0,"　","　","　","自動入力（上書入力可）","自動入力（上書入力可）"]
[1,"国立","京都教育大学附属",12,"京都教育大学附属高等学校",1,"612-8431","6128431","京都市伏見区深草越後屋敷町111","075-641-9195","075-641-3871","kfkou1@kyokyo-u.ac.jp"]
[2,"府立","山城",27,"京都府立山城高等学校",2,"603-8335","6038335","京都市北区大将軍坂田町29","075-463-8261","075-463-8263","yamashiro-info@kyoto-be.ne.jp"]
[3,"府立","鴨沂",18,"京都府立鴨沂高等学校",3,"602-0867","6020867","京都市上京区寺町通荒神口下ル松蔭町131","075-231-1512","075-231-0220","ohki-hs@kyoto-be.ne.jp"]
[4,"府立","洛北",21,"京都府立洛北高等学校",4,"606-0851","6060851","京都市左京区下鴨梅ノ木町59","075-781-0020","075-781-2520","rakuhoku-hs@pref.kyoto.lg.jp"]
[5,"府立","北稜",19,"京都府立北稜高等学校",5,"606-0015","6060015","京都市左京区岩倉幡枝町2105番地","075-701-2900","075-722-8400"]
[6,"府立","朱雀",18,"京都府立朱雀高等学校",6,"604-8384","6048384","京都市中京区西ノ京式部町1","075-841-0127","075-841-0646","suzaku-hs-zen@kyoto-be.ne.jp"]
[7,"府立","洛東",18,"京都府立洛東高等学校",7,"607-8017","6078017","京都市山科区安朱川向町10","075-581-1124","075-581-1125"]
[8,"府立","鳥羽",22,"京都府立鳥羽高等学校",8,"601-8449","6018449","京都市南区西九条大国町1","075-672-6788","075-691-7448","toba-hs@kyoto-be.ne.jp"]
[9,"府立","嵯峨野",24,"京都府立嵯峨野高等学校",9,"616-8226","6168226","京都市右京区常盤段ノ上町15","075-871-0723","075-871-0724","sagano-hs@kyoto-be.ne.jp"]
[10,"府立","北嵯峨",21,"京都府立北嵯峨高等学校",10,"616-8353","6168353","京都市右京区嵯峨大沢柳井手町","075-872-1700","075-872-1701","kitasaga-hs@pref.kyoto.lg.jp"]
[11,"府立","北桑田",9,"京都府立北桑田高等学校",11,"601-0534","6010534","京都市右京区京北下弓削町沢ノ奥15","075-854-0022","075-854-0310","kitakuwada-hs@kyoto-be.ne.jp"]
[12,"府立","桂",27,"京都府立桂高等学校",12,"615-8102","6158102","京都市西京区川島松ノ木本町27","075-391-2151","075-391-2153","katsura-hs@pref.kyoto.lg.jp"]
[13,"府立","洛西",21,"京都府立洛西高等学校",13,"610-1146","6101146","京都市西京区大原野西境谷町1丁目12-1.2","075-332-0555","075-332-0216","rakusai-hs@pref.kyoto.lg.jp"]
[14,"府立","桃山",27,"京都府立桃山高等学校",14,"612-0063","6120063","京都市伏見区桃山毛利長門東町8","075-601-8387","075-601-8388","momoyama-hs@kyoto-be.ne.jp"]
[15,"府立","東稜",18,"京都府立東稜高等学校",15,"601-1326","6011326","京都市伏見区醍醐新町裏町25-1","075-572-2323","075-572-2317","touryou-hs@kyoto-be.ne.jp"]
[16,"府立","洛水",15,"京都府立洛水高等学校",16,"612-8283","6128283","京都市伏見区横大路向ヒ18","075-621-6330","075-621-6244"]
[17,"府立","京都すばる",24,"京都府立京都すばる高等学校",17,"612-8156","6128156","京都市伏見区向島西定請120","075-621-4788","075-621-8997","subaru-hs@kyoto-be.ne.jp"]
[18,"府立","向陽",15,"京都府立向陽高等学校",18,"617-0006","6170006","向日市上植野町西大田","075-922-4500","075-933-7200","kouyou-hs@kyoto-be.ne.jp"]
[19,"府立","乙訓",18,"京都府立乙訓高等学校",19,"617-0843","6170843","長岡京市友岡1丁目1-1","075-951-1008","075-951-6701","otokuni-hs@kyoto-be.ne.jp"]
[20,"府立","西乙訓",14,"京都府立西乙訓高等学校",20,"617-0845","6170845","長岡京市下海印寺西明寺41","075-955-2210","075-955-2209"]
[21,"府立","東宇治",21,"京都府立東宇治高等学校",21,"611-0002","6110002","宇治市木幡平尾43-2","0774-32-6390","0774-32-6371","higashiuji-hs@kyoto-be.ne.jp"]
[22,"府立","莵道",21,"京都府立莵道高等学校",22,"611-0011","6110011","宇治市五ケ庄五雲峰4-1","0774-33-1691","0774-33-1696","todou-hs@kyoto-be.ne.jp"]
[23,"府立","城南菱創",18,"京都府立城南菱創高等学校",23,"611-0042","6110042","宇治市小倉町南堀池","0774-23-5030","0774-23-5040","jonanryoso-hs@kyoto-be.ne.jp"]
[24,"府立","城陽",22,"京都府立城陽高等学校",24,"610-0121","6100121","城陽市寺田宮ノ平1","0774-52-6811","0774-52-6812","jyouyou-hs@kyoto-be.ne.jp"]
[25,"府立","西城陽",24,"京都府立西城陽高等学校",25,"610-0117","6100117","城陽市枇杷庄京縄手46-1","0774-53-5455","0774-53-5459"]
[26,"府立","京都八幡(南北キャンパスの計)",21,"京都府立京都八幡高等学校",26,"614-8363","6148363","八幡市男山吉井7","075-981-3508","075-981-3509"]
[27,"府立","久御山",21,"京都府立久御山高等学校",27,"613-0033","6130033","久世郡久御山町林北畑","0774-43-9611","0774-43-9619","kumiyama-hs@pref.kyoto.lg.jp"]
[28,"府立","田辺",27,"京都府立田辺高等学校",28,"610-0361","6100361","京田辺市河原神谷24","0774-62-0572","0774-62-0573","tanabe-hs@kyoto-be.ne.jp"]
[29,"府立","木津",21,"京都府立木津高等学校",29,"619-0214","6190214","木津川市木津内田山34","0774-72-0031","0774-72-0032","kizu-hs@kyoto-be.ne.jp"]
[30,"府立","南陽",22,"京都府立南陽高等学校",30,"619-0224","6190224","木津川市兜台6丁目2番地","0774-72-8730","0774-72-8647","nannyou-hs@pref.kyoto.lg.jp"]
[31,"府立","亀岡",22,"京都府立亀岡高等学校",31,"621-0812","6210812","亀岡市横町23","0771-22-0103","0771-22-0128"]
[32,"府立","南丹",17,"京都府立南丹高等学校",32,"621-0008","6210008","亀岡市馬路町中島1","0771-24-1821","0771-24-1868","nantan-hs@kyoto-be.ne.jp   "]
[33,"府立","園部",15,"京都府立園部高等学校",33,"622-0004","6220004","南丹市園部町小桜町97","0771-62-0051","0771-62-0116","sonobe-hs@kyoto-be.ne.jp"]
[34,"府立","農芸",9,"京都府立農芸高等学校",34,"622-0059","6220059","南丹市園部町南大谷","0771-65-0013","0771-65-0006","nougei-hs@pref.kyoto.lg.jp"]
[35,"府立","須知",9,"京都府立須知高等学校",35,"622-0231","6220231","船井郡京丹波町豊田下川原166-1","0771-82-1171","0771-82-0017","syuuchiｰhs@kyoto-be.ne.jp"]
[36,"府立","綾部",18,"京都府立綾部高等学校",36,"623-0042","6230042","綾部市岡町長田18","0773-42-0451","0773-42-0452","ayabe-hs@kyoto-be.ne.jp"]
[37,"府立","綾部(東分校全日制)",6,"京都府立綾部高等学校（東分校）",37,"623-0012","6230012","綾部市川糸町堀ノ内18","0773-42-0453","0773-42-0488","higashi-ayabe-hs@kyoto-be.ne.jp"]
[38,"府立","福知山",18,"京都府立福知山高等学校",38,"620-0857","6200857","福知山市字土師650","0773-27-2151","0773-27-2826","fukuchiyama-hs@kyoto-be.ne.jp"]
[39,"府立","工業",15,"京都府立工業高等学校",39,"620-0804","6200804","福知山市字石原小字上野45","0773-27-5161","0773-27-5162"]
[40,"府立","大江",5,"京都府立大江高等学校",40,"620-0303","6200303","福知山市大江町金屋578","0773-56-0033","0773-56-1120","ooe-hs@kyoto-be.ne.jp"]
[41,"府立","東舞鶴",12,"京都府立東舞鶴高等学校",41,"625-0026","6250026","舞鶴市字泉源寺766","0773-62-5510","0773-62-1451","higashimaizuru-hs@kyoto-be.ne.jp"]
[42,"府立","西舞鶴",16,"京都府立西舞鶴高等学校",42,"624-0841","6240841","舞鶴市引土145","0773-75-3131","0773-75-5629","nishimaizuru-hs@kyoto-be.ne.jp"]
[43,"府立","宮津",5,"京都府立宮津高等学校",43,"626-0034","6260034","宮津市滝馬23","0772-22-2116","0772-22-2117","miyazu-hs@pref.kyoto.lg.jp"]
[44,"府立","海洋",9,"京都府立海洋高等学校",44,"626-0074","6260074","宮津市字上司1567-1","0772-25-0331","0772-25-0332","kaiyou-hs@kyoto-be.ne.jp"]
[45,"府立","加悦谷",3,"京都府立加悦谷高等学校",45,"629-2313","6292313","与謝郡与謝野町字三河内810","0772-42-2171","0772-42-2172","kayadani-hs@kyoto-be.ne.jp"]
[46,"府立","峰山",15,"京都府立峰山高等学校",46,"627-8688","6278688","京丹後市峰山町古殿1185","0772-62-1012","0772-62-1013","mineyama-hs@pref.kyoto.lg.jp"]
[47,"府立","峰山弥栄分校",2,"京都府立峰山高等学校（弥栄分校）",47,"627-0142","6270142","京丹後市弥栄町黒部380","0772-65-3850","0772-65-3850","yasaka-mineyama-hs@kyoto-be.ne.jp"]
[48,"府立","網野",3,"京都府立網野高等学校",48,"629-3101","6293101","京丹後市網野町網野2820","0772-72-0379","0772-72-0405","amino-hs@kyoto-be.ne.jp"]
[49,"府立","久美浜",3,"京都府立久美浜高等学校",49,"629-3444","6293444","京丹後市久美浜町橋爪65","0772-82-0069","0772-82-0690","kumihama-hs@pref.kyoto.lg.jp"]
[50,"府立","盲",17,"京都府立盲学校",50,"603-8302","6038302","京都市北区紫野花ノ坊町１","075-462-5083","075-462-5770"]
[51,"府立","聾",3,"京都府立聾学校",51,"616-8092","6168092","京都市右京区御室大内町4","075-461-8121","075-461-8122","rou-s-sh@kyoto-be.ne.jp"]
[52,"府立","向日が丘支援",13,"京都府立向日が丘支援学校",52,"617-0813","6170813","長岡京市井ノ内朝日寺11","075-951-8361","075-951-8362","mukougaoka-s@kyoto-be.jp"]
[53,"府立","宇治支援",18,"京都府立宇治支援学校",53,"611-0031","6110031","宇治市広野町丸山10","0774-41-3701","0774-45-2220"]
[54,"府立","城陽支援",11,"京都府立城陽支援学校",54,"610-0113","6100113","城陽市中芦原1-4","0774-53-7100","0774-53-4044","jyouyou-hs@kyoto-be.ne.jp"]
[55,"府立","八幡支援",16,"京都府立八幡支援学校",55,"614-8236","6148236","八幡市内里柿谷16-1","075-982-7321","075-982-7361","yawata-s@kyoto-be.ne.jp"]
[56,"府立","南山城支援",13,"京都府立南山城支援学校",56,"619-0231","6190231","相楽郡精華町山田医王寺１","0774-72-7255","0774-72-7256"]
[57,"府立","丹波支援",22,"京都府立丹波支援学校",57,"629-0154","6290154","南丹市八木町柴山坊田118","0771-42-5185","0771-42-5186","tanba-s@pref.kyoto.lg.jp"]
[58,"府立","中丹支援",11,"京都府立中丹支援学校",58,"620-0003","6200003","福知山市大字私市小字打溝8","0773-32-0011","0773-32-0012","tyuutan-s@kyoto-be.ne.jp"]
[59,"府立","舞鶴支援",10,"京都府立舞鶴支援学校",59,"624-0812　","624812　","舞鶴市字堀4-1","0773-78-3133","0773-78-3135","maizuru-s@kyoto-be.ne.jp"]
[60,"府立","与謝の海支援",7,"京都府立与謝の海支援学校",60,"629-2261","6292261","与謝郡与謝野町字男山945","0772-46-2770","0772-46-2771","yosanoumi-s@pref.kyoto.lg.jp"]
[61,"市立","西京",21,"京都市立西京高等学校",61,"604-8437","6048437","京都市中京区西ノ京東中合町1","075-841-0010","075-822-5702","saikyo@edu.city.kyoto.jp"]
[62,"市立","銅駝美術工芸",9,"京都市立銅駝美術工芸高等学校",62,"604-0902  ","60402  ","京都市中京区土手町通竹屋町下ル鉾田町542","075-211-4984","075-211-8994"]
[63,"市立","京都堀川音楽",3,"京都市立京都堀川音楽高等学校",63,"604-0052","6040052","京都市中京区油小路通御池押油小路町238-1","075-253-1581","075-213-3631","ongaku@edu.city.kyoto.jp"]
[64,"市立","堀川",18,"京都市立堀川高等学校",64,"604-8254","6048254","京都市中京区東堀川通錦小路上ル四坊堀川町622-2","075-211-5351","075-211-8975","horikawa@edu.city.jp"]
[65,"市立","日吉ケ丘",21,"京都市立日吉ケ丘高等学校",65,"605-0000","6050000","京都市東山区今熊野悲田院山町5-22","075-561-4142","075-551-9046","hiyoshi@edu.city.kyoto.jp"]
[66,"市立","紫野",837,"京都市立紫野高等学校",66,"603-8231","6038231","京都市北区紫野大徳寺町22","075-491-0221","075-492-0968"]
[67,"市立","塔南",21,"京都市立塔南高等学校",67,"601-8348","6018348","京都市南区吉祥院観音堂町41","075-681-0701","075-682-7107","tounan@edu.city.kyoto.jp "]
[68,"市立","工学院",21,"京都市立京都工学院高等学校",68,"612-0884","6120884","京都市伏見区深草西出山町23","075-646-1515","075-646-1516","kogakuin@edu.city.kyoto.jp "]
[69,"私立","大谷",46,"大谷高等学校",69,"605-0965","6050965","京都市東山区今熊野池田町12","075-541-1312","075-541-7627"]
[70,"私立","京都先端科学",38,"京都先端科学大学附属高等学校",70,"616-8036","6168036","京都市右京区花園寺ノ中町8","075-461-5105","075-461-5138","jimu@js.kuas.ac.jp"]
[71,"私立","京都外大西",27,"京都外大西高等学校",71,"615-0074","6150074","京都市右京区山ノ内苗町37","075-321-0712","075-322-7733","n_office@kufs.ac.jp"]
[72,"私立","花園",34,"花園高等学校",72,"616-8034","6168034","京都市右京区花園木辻北町1","075-463-5221","075-464-9469","office@kyoto-hanazono-h.ed.jp"]
[73,"私立","東山",38,"東山高等学校",73,"606-8445","6068445","京都市左京区永観堂町51","075-771-9121","075-771-7217","office@higashiyama.ed.jp"]
[74,"私立","龍谷大学付属平安",41,"龍谷大学付属平安高等学校",74,"600-8267","6008267","京都市下京区大宮通御器町七条上ル30","075-361-4231","075-371-1793"]
[75,"私立","洛星",15,"洛星高等学校",75,"603-8342","6038342","京都市北区小松原南町33","075-466-0001","075-466-0777"]
[76,"私立","洛南",28,"洛南高等学校",76,"601-8478","6018478","京都市南区壬生通八条下ル東寺町559","075-681-6511","075-671-2317"]
[77,"私立","立命館",30,"立命館高等学校",77,"617-8577","6178577","長岡京市調子一丁目1-1","075-323-7111","075-323-7123"]
[78,"私立","京都両洋",40,"京都両洋高等学校",78,"604-8851","6048851","京都市中京区壬生上大竹町13","075-841-2025","075-841-0178","japan@kyoto-ryoyo.ed.jp"]
[79,"私立","京都文教",32,"京都文教高等学校",79,"606-8344","6068344","京都市左京区岡崎円勝寺町5","075-771-6155","075-752-6808"]
[80,"私立","華頂女子",11,"華頂女子高等学校",80,"605-0062","6050062","京都市東山区林下町3丁目456","075-541-0391","075-541-5962"]
[81,"私立","京都女子",29,"京都女子高等学校",81,"605-8501","6058501","京都市東山区今熊野北日吉町17","075-531-7358","075-531-7377"]
[82,"私立","京都精華学園",28,"京都精華学園高等学校",82,"606-8305","6068305","京都市左京区吉田河原町5-1","075-771-4181","075-761-5238"]
[83,"私立","京都橘",32,"京都橘高等学校",83,"612-8026","6128026","京都市伏見区桃山町伊賀50","075-623-0066","075-623-0070"]
[84,"私立","京都光華",17,"京都光華高等学校",84,"615-0861","6150861","京都市右京区西京極野田町39","075-325-5223","075-311-6103"]
[85,"私立","京都産業大学附属",37,"京都産業大学附属高等学校",85,"600-8577","6008577","京都市下京区中堂寺命婦町1-10","075-279-0001","075-277-0300"]
[86,"私立","京都聖母学院",21,"京都聖母学院高等学校",86,"612-0878","6120878","京都市伏見区深草田谷町1","075-645-8103","075-641-0805"]
[87,"私立","京都西山",21,"京都西山高等学校",87,"617-0002","6170002","向日市寺戸町西野辺25","075-934-2480","075-931-4079","info@kyotonishiyama.ed.jp"]
[88,"私立","ノートルダム女学院",12,"ノートルダム女学院高等学校",88,"606-8423","6068423","京都市左京区鹿ケ谷桜谷町110","075-771-0570","075-752-1087","info@notredame-jogakuin.ed.jp"]
[89,"私立","平安女学院",15,"平安女学院高等学校",89,"602-8013","6028013","京都市上京区烏丸通下立売西入","075-414-8111","075-414-8119","heijo-jimu@heian.ac.jp"]
[90,"私立","京都明徳",31,"京都明徳高等学校",90,"610-1111","6101111","京都市西京区大枝東長町3-8","075-331-3361","075-331-8088"]
[91,"私立","洛陽総合",19,"洛陽総合高等学校",91,"604-8453","6048453","京都市中京区西ノ京春日町8","075-802-0394","075-822-0472","info@rakuyo.ed.jp"]
[92,"私立","立命館宇治",32,"立命館宇治高等学校",92,"611-0031","6110031","宇治市広野町八軒屋谷33番1号","0774-41-3000","0774-41-3555"]
[93,"私立","京都廣学館",20,"京都廣学館高等学校",93,"619-0245","6190245","相楽郡精華町下狛中垣内48","0774-93-0518","0774-93-2266","kyoto-kogakkan@mkg.ac.jp"]
[94,"私立","京都成章",39,"京都成章高等学校",94,"610-1106","6101106","京都市西京区大枝沓掛町26","075-332-4830","075-331-0827"]
[95,"私立","京都翔英",26,"京都翔英高等学校",95,"611-0013","6110013","宇治市菟道大垣内33-10","0774-23-2238","0774-23-9088","info@kyoto-shoei.ac.jp"]
[96,"私立","同志社",24,"同志社高等学校",96,"606-8558","6068558","京都市左京区岩倉大鷺町89","075-781-7121","075-781-7124","jimu-s@js.doshisha.ac.jp"]
[97,"私立","同志社女子",18,"同志社女子高等学校",97,"602-0893","6020893","京都市上京区今出川通寺町西入","075-251-4305","075-251-4308"]
[98,"私立","同志社国際",18,"同志社国際高等学校",98,"610-0321","6100321","京田辺市多々羅都谷60-1","0774-65-8911","0774-65-8990"]
[99,"私立","京都国際",8,"京都国際高等学校",99,"605-0978","6050978","京都市東山区今熊野本多山町1","075-525-3535","075-525-3563","kkg.info@kyoto-kokusai.ed.jp"]
[100,"私立","京都芸術",15,"京都芸術高等学校",100,"611-0011","6110011","宇治市五ヶ庄西浦6-2","0774-32-7012","0774-33-3698"]
[101,"私立","京都共栄学園",20,"京都共栄学園高等学校",101,"620-0933","6200933","福知山市篠尾62-5","0773-22-6241","0773-22-0968","info@kyoei.ed.jp"]
[102,"府立","清明",14,"京都府立清明高等学校",102,"603-8163","6038163","京都市北区小山南大野町","075-417-4031","075-417-4032","seimei-hs@pref.kyoto.lg.jp"]
[103,"府立","鳥羽定時制",5,"京都府立鳥羽高等学校（定時制）",103,"601-8449","6018449","京都市南区西九条大国町1","075-672-8481","075-672-8491"]
[104,"府立","桃山定時制",11,"京都府立桃山高等学校（定時制）",104,"612-0063","6120063","京都市伏見区桃山毛利長門東町8","075-601-8387","075-601-8388"]
[105,"府立","福知山三和分校",4,"京都府立福知山高等学校（三和分校）",105,"620-1442","6201442","福知山市三和町千束橋ノ谷35-1","0773-58-2049","0773-58-2049","miwa-fukuchiyama-hs@kyoto-be.ne.jp"]
[106,"府立","東舞鶴浮島分校",4,"京都府立東舞鶴高等学校（浮島分校）",106,"625-0035","6250035","舞鶴市字溝尻150-13","0773-62-0536","0773-62-0566","higashimaizuru-hs@pref.kyoto.lg.jp"]
[107,"府立","宮津伊根分校",2,"京都府立宮津高等学校（伊根分校）",107,"626-0425","6260425","与謝郡伊根町字日出252","0772-32-0052","0772-32-005４"]
[108,"府立","網野間人分校",2,"京都府立網野高等学校（間人分校）",108,"627-0201","6270201","京丹後市丹後町間人337","0772-75-0142","0772-75-0142","taiza-amino-hs@kyoto-be.ne.jp"]
[109,"私立","京都成章通信制",3,"京都成章高等学校（通信制）",109,"610-1106","6101106","京都市西京区大枝沓掛町26","075-332-4830","075-331-0827","ks-tsushin@kyoto-econ.ac.jp"]
[110,"私立","クラーク記念国際",6,"クラーク記念国際高等学校",110,"600-8432","6008432","京都市下京区仏光寺通新町東入糸屋町219","075-353-6955","075-353-6971"]
[111,"私立","京都廣学館通信制",3,"京都廣学館高等学校（通信制）",111,"619-0245","6190245","相楽郡精華町下狛中垣内48","0774-93-0518","0774-93-2266","step-up@mkg.ac.jp"]
[112,"私立","つくば開成",10,"京都つくば開成高等学校",112,"600-8320","6008320","京都市下京区西洞院七条上ル福本町406","075-371-0020","075-371-0021","info@tkaissei-kyoto.jp"]
[113,"私立","京都芸大附属",16,"京都芸術大学附属高等学校",113,"606-8252","6068252","京都市左京区北白川上終町24　京都造形芸術大学　創々館2階","0120-87-37-39","075-791-9477"]
[114,"府立","宮津天橋（宮津）",10,"京都府立宮津天橋高等学校（宮津学舎）",114,"626-0034","6260034","宮津市滝馬23","0772-22-2116","0772-22-2117","miyazu-hs@pref.kyoto.lg.jp"]
[115,"府立","宮津天橋（加悦谷）",6,"京都府立宮津天橋高等学校（加悦谷学舎）",115,"629-2313","6292313","与謝郡与謝野町字三河内810","0772-42-2171","0772-42-2172","kayadani-hs@kyoto-be.ne.jp"]
[116,"府立","丹後緑風（網野）",6,"京都府立丹後緑風高等学校（網野学舎）",116,"629-3101","6293101","京丹後市網野町網野2820","0772-72-0379","0772-72-0405","amino-tangoryokufuu-hs@kyoto-be.ne.jp"]
[117,"府立","丹後緑風（久美浜）",4,"京都府立丹後緑風高等学校（久美浜学舎）",117,"629-3444","6293444","京丹後市久美浜町橋爪65","0772-82-0069","0772-82-0690","kumihama-hs@pref.kyoto.lg.jp"]
[118,"府立","清新",6,"京都府立清新高等学校",118,"627-0142","6270142","京丹後市弥栄町黒部380","0772-65-3850","0772-65-3850","seishin-hs@kyoto-be.ne.jp "]

{"sheet":"全種別","index":7,"n_rows":13,"n_cols":13,"rows_kept":13,"cut":false,"hidden":false,"merged":[[0,11,0,12],[0,7,1,7],[0,0,1,0],[0,1,1,1],[0,2,0,3],[0,4,0,5],[0,8,0,9],[0,6,1,6],[0,10,1,10]]}
["作品\n番号","学年","出品者名",null,"題　　　　名",null,"区分","種別","作品の大きさ",null,"コメント","参加確認"]
[null,null,"出品者名","ふりがな（出品者名）","題　　名","ふりがな（題名）",null,null,"作品の規格","平面：縦×横×厚さ\n立体：幅×奥行×高さ\n映像：動画形式、時間（分）\nアスペクト比",null,"開会式","講評会"]
[null,null,null,null,null,null,"平面","絵画",null,{"$f":"IF(I3=\"その他\",\"\",IF(I3=\"\",\"\",\"入力不要\"))","v":""},null,"実施なし"]
[null,null,null,null,null,null,"平面","版画",null,{"$f":"IF(I4=\"その他\",\"\",IF(I4=\"\",\"\",\"入力不要\"))","v":""},null,"実施なし"]
[null,null,null,null,null,null,"平面","デザイン",null,{"$f":"IF(I5=\"その他\",\"\",IF(I5=\"\",\"\",\"入力不要\"))","v":""},null,"実施なし"]
[null,null,null,null,null,null,"平面","テーマ作品の部",null,{"$f":"IF(I6=\"その他\",\"\",IF(I6=\"\",\"\",\"入力不要\"))","v":""},null,"実施なし"]
[null,null,null,null,null,null,"平面",null,"その他",null,null,"実施なし"]
[null,null,null,null,null,null,"平面","彫刻","その他",null,null,"実施なし"]
[null,null,null,null,null,null,"立体","彫刻",null,null,null,"実施なし"]
[null,null,null,null,null,null,"立体","デザイン",null,null,null,"実施なし"]
[null,null,null,null,null,null,"立体",null,null,null,null,"実施なし"]
[null,null,null,null,null,null,"映像","スクリーン","その他",null,null,"実施なし"]
[null,null,null,null,null,null,"映像","空間","その他",null,null,"実施なし"]

{"sheet":"summary","index":8,"n_rows":30,"n_cols":28,"rows_kept":30,"cut":false,"hidden":false,"merged":[]}
["作品番号","学年","出品者名","ふりがな（出品者名）","題名","ふりがな（題名）","区分","種別","規格","サイズ","コメント","開会式","講評会","トラック号車","学校番号","学校名","電話","FAX","部名","指導教員名1","メールアドレス1","携帯1","指導教員名2","メールアドレス2","携帯2","指導教員名3","メールアドレス3","携帯3"]
[{"$f":"参加申込書Ｂ!A5","v":1},{"$f":"参加申込書Ｂ!B5","v":1},{"$f":"参加申込書Ｂ!C5","v":"作者１"},{"$f":"参加申込書Ｂ!D5","v":"さくしゃ１"},{"$f":"参加申込書Ｂ!E5","v":"作品１"},{"$f":"参加申込書Ｂ!F5","v":"さくひん１"},{"$f":"参加申込書Ｂ!G5","v":"平面"},{"$f":"参加申込書Ｂ!H5","v":"絵画"},{"$f":"参加申込書Ｂ!I5","v":"F50号縦"},{"$f":"参加申込書Ｂ!J5","v":"入力不要"},{"$f":"参加申込書Ｂ!K5","v":"作者によるコメント（60文字以内）"},{"$f":"参加申込書Ｂ!L5","v":"実施なし"},{"$f":"参加申込書Ｂ!M5","v":"参加"},{"$f":"出品票作成!$B$6","v":"選択"},{"$f":"参加申込書Ａ!$E$1","v":0},{"$f":"参加申込書Ａ!$B$6","v":"選択してください"},{"$f":"参加申込書Ａ!$B$9","v":"自動入力（上書入力可）"},{"$f":"参加申込書Ａ!$D$9","v":"自動入力（上書入力可）"},{"$f":"参加申込書Ａ!$B$8","v":0},{"$f":"参加申込書Ａ!$B$12","v":0},{"$f":"参加申込書Ａ!$C$12","v":0},{"$f":"参加申込書Ａ!$D$12","v":0},{"$f":"参加申込書Ａ!$B$13","v":0},{"$f":"参加申込書Ａ!$C$13","v":0},{"$f":"参加申込書Ａ!$D$13","v":0},{"$f":"参加申込書Ａ!$B$14","v":0},{"$f":"参加申込書Ａ!$C$14","v":0},{"$f":"参加申込書Ａ!$D$14","v":0}]
[{"$f":"参加申込書Ｂ!A6","v":0},{"$f":"参加申込書Ｂ!B6","v":0},{"$f":"参加申込書Ｂ!C6","v":0},{"$f":"参加申込書Ｂ!D6","v":0},{"$f":"参加申込書Ｂ!E6","v":0},{"$f":"参加申込書Ｂ!F6","v":0},{"$f":"参加申込書Ｂ!G6","v":0},{"$f":"参加申込書Ｂ!H6","v":0},{"$f":"参加申込書Ｂ!I6","v":0},{"$f":"参加申込書Ｂ!J6","v":0},{"$f":"参加申込書Ｂ!K6","v":0},{"$f":"参加申込書Ｂ!L6","v":0},{"$f":"参加申込書Ｂ!M6","v":0},{"$f":"出品票作成!$B$6","v":"選択"},{"$f":"参加申込書Ａ!$E$1","v":0},{"$f":"参加申込書Ａ!$B$6","v":"選択してください"},{"$f":"参加申込書Ａ!$B$9","v":"自動入力（上書入力可）"},{"$f":"参加申込書Ａ!$D$9","v":"自動入力（上書入力可）"},{"$f":"参加申込書Ａ!$B$8","v":0},{"$f":"参加申込書Ａ!$B$12","v":0},{"$f":"参加申込書Ａ!$C$12","v":0},{"$f":"参加申込書Ａ!$D$12","v":0},{"$f":"参加申込書Ａ!$B$13","v":0},{"$f":"参加申込書Ａ!$C$13","v":0},{"$f":"参加申込書Ａ!$D$13","v":0},{"$f":"参加申込書Ａ!$B$14","v":0},{"$f":"参加申込書Ａ!$C$14","v":0},{"$f":"参加申込書Ａ!$D$14","v":0}]
[{"$f":"参加申込書Ｂ!A7","v":0},{"$f":"参加申込書Ｂ!B7","v":0},{"$f":"参加申込書Ｂ!C7","v":0},{"$f":"参加申込書Ｂ!D7","v":0},{"$f":"参加申込書Ｂ!E7","v":0},{"$f":"参加申込書Ｂ!F7","v":0},{"$f":"参加申込書Ｂ!G7","v":0},{"$f":"参加申込書Ｂ!H7","v":0},{"$f":"参加申込書Ｂ!I7","v":0},{"$f":"参加申込書Ｂ!J7","v":0},{"$f":"参加申込書Ｂ!K7","v":0},{"$f":"参加申込書Ｂ!L7","v":0},{"$f":"参加申込書Ｂ!M7","v":0},{"$f":"出品票作成!$B$6","v":"選択"},{"$f":"参加申込書Ａ!$E$1","v":0},{"$f":"参加申込書Ａ!$B$6","v":"選択してください"},{"$f":"参加申込書Ａ!$B$9","v":"自動入力（上書入力可）"},{"$f":"参加申込書Ａ!$D$9","v":"自動入力（上書入力可）"},{"$f":"参加申込書Ａ!$B$8","v":0},{"$f":"参加申込書Ａ!$B$12","v":0},{"$f":"参加申込書Ａ!$C$12","v":0},{"$f":"参加申込書Ａ!$D$12","v":0},{"$f":"参加申込書Ａ!$B$13","v":0},{"$f":"参加申込書Ａ!$C$13","v":0},{"$f":"参加申込書Ａ!$D$13","v":0},{"$f":"参加申込書Ａ!$B$14","v":0},{"$f":"参加申込書Ａ!$C$14","v":0},{"$f":"参加申込書Ａ!$D$14","v":0}]
[{"$f":"参加申込書Ｂ!A8","v":0},{"$f":"参加申込書Ｂ!B8","v":0},{"$f":"参加申込書Ｂ!C8","v":0},{"$f":"参加申込書Ｂ!D8","v":0},{"$f":"参加申込書Ｂ!E8","v":0},{"$f":"参加申込書Ｂ!F8","v":0},{"$f":"参加申込書Ｂ!G8","v":0},{"$f":"参加申込書Ｂ!H8","v":0},{"$f":"参加申込書Ｂ!I8","v":0},{"$f":"参加申込書Ｂ!J8","v":0},{"$f":"参加申込書Ｂ!K8","v":0},{"$f":"参加申込書Ｂ!L8","v":0},{"$f":"参加申込書Ｂ!M8","v":0},{"$f":"出品票作成!$B$6","v":"選択"},{"$f":"参加申込書Ａ!$E$1","v":0},{"$f":"参加申込書Ａ!$B$6","v":"選択してください"},{"$f":"参加申込書Ａ!$B$9","v":"自動入力（上書入力可）"},{"$f":"参加申込書Ａ!$D$9","v":"自動入力（上書入力可）"},{"$f":"参加申込書Ａ!$B$8","v":0},{"$f":"参加申込書Ａ!$B$12","v":0},{"$f":"参加申込書Ａ!$C$12","v":0},{"$f":"参加申込書Ａ!$D$12","v":0},{"$f":"参加申込書Ａ!$B$13","v":0},{"$f":"参加申込書Ａ!$C$13","v":0},{"$f":"参加申込書Ａ!$D$13","v":0},{"$f":"参加申込書Ａ!$B$14","v":0},{"$f":"参加申込書Ａ!$C$14","v":0},{"$f":"参加申込書Ａ!$D$14","v":0}]
[{"$f":"参加申込書Ｂ!A9","v":0},{"$f":"参加申込書Ｂ!B9","v":0},{"$f":"参加申込書Ｂ!C9","v":0},{"$f":"参加申込書Ｂ!D9","v":0},{"$f":"参加申込書Ｂ!E9","v":0},{"$f":"参加申込書Ｂ!F9","v":0},{"$f":"参加申込書Ｂ!G9","v":0},{"$f":"参加申込書Ｂ!H9","v":0},{"$f":"参加申込書Ｂ!I9","v":0},{"$f":"参加申込書Ｂ!J9","v":0},{"$f":"参加申込書Ｂ!K9","v":0},{"$f":"参加申込書Ｂ!L9","v":0},{"$f":"参加申込書Ｂ!M9","v":0},{"$f":"出品票作成!$B$6","v":"選択"},{"$f":"参加申込書Ａ!$E$1","v":0},{"$f":"参加申込書Ａ!$B$6","v":"選択してください"},{"$f":"参加申込書Ａ!$B$9","v":"自動入力（上書入力可）"},{"$f":"参加申込書Ａ!$D$9","v":"自動入力（上書入力可）"},{"$f":"参加申込書Ａ!$B$8","v":0},{"$f":"参加申込書Ａ!$B$12","v":0},{"$f":"参加申込書Ａ!$C$12","v":0},{"$f":"参加申込書Ａ!$D$12","v":0},{"$f":"参加申込書Ａ!$B$13","v":0},{"$f":"参加申込書Ａ!$C$13","v":0},{"$f":"参加申込書Ａ!$D$13","v":0},{"$f":"参加申込書Ａ!$B$14","v":0},{"$f":"参加申込書Ａ!$C$14","v":0},{"$f":"参加申込書Ａ!$D$14","v":0}]
[{"$f":"参加申込書Ｂ!A10","v":0},{"$f":"参加申込書Ｂ!B10","v":0},{"$f":"参加申込書Ｂ!C10","v":0},{"$f":"参加申込書Ｂ!D10","v":0},{"$f":"参加申込書Ｂ!E10","v":0},{"$f":"参加申込書Ｂ!F10","v":0},{"$f":"参加申込書Ｂ!G10","v":0},{"$f":"参加申込書Ｂ!H10","v":0},{"$f":"参加申込書Ｂ!I10","v":0},{"$f":"参加申込書Ｂ!J10","v":0},{"$f":"参加申込書Ｂ!K10","v":0},{"$f":"参加申込書Ｂ!L10","v":0},{"$f":"参加申込書Ｂ!M10","v":0},{"$f":"出品票作成!$B$6","v":"選択"},{"$f":"参加申込書Ａ!$E$1","v":0},{"$f":"参加申込書Ａ!$B$6","v":"選択してください"},{"$f":"参加申込書Ａ!$B$9","v":"自動入力（上書入力可）"},{"$f":"参加申込書Ａ!$D$9","v":"自動入力（上書入力可）"},{"$f":"参加申込書Ａ!$B$8","v":0},{"$f":"参加申込書Ａ!$B$12","v":0},{"$f":"参加申込書Ａ!$C$12","v":0},{"$f":"参加申込書Ａ!$D$12","v":0},{"$f":"参加申込書Ａ!$B$13","v":0},{"$f":"参加申込書Ａ!$C$13","v":0},{"$f":"参加申込書Ａ!$D$13","v":0},{"$f":"参加申込書Ａ!$B$14","v":0},{"$f":"参加申込書Ａ!$C$14","v":0},{"$f":"参加申込書Ａ!$D$14","v":0}]
[{"$f":"参加申込書Ｂ!A11","v":0},{"$f":"参加申込書Ｂ!B11","v":0},{"$f":"参加申込書Ｂ!C11","v":0},{"$f":"参加申込書Ｂ!D11","v":0},{"$f":"参加申込書Ｂ!E11","v":0},{"$f":"参加申込書Ｂ!F11","v":0},{"$f":"参加申込書Ｂ!G11","v":0},{"$f":"参加申込書Ｂ!H11","v":0},{"$f":"参加申込書Ｂ!I11","v":0},{"$f":"参加申込書Ｂ!J11","v":0},{"$f":"参加申込書Ｂ!K11","v":0},{"$f":"参加申込書Ｂ!L11","v":0},{"$f":"参加申込書Ｂ!M11","v":0},{"$f":"出品票作成!$B$6","v":"選択"},{"$f":"参加申込書Ａ!$E$1","v":0},{"$f":"参加申込書Ａ!$B$6","v":"選択してください"},{"$f":"参加申込書Ａ!$B$9","v":"自動入力（上書入力可）"},{"$f":"参加申込書Ａ!$D$9","v":"自動入力（上書入力可）"},{"$f":"参加申込書Ａ!$B$8","v":0},{"$f":"参加申込書Ａ!$B$12","v":0},{"$f":"参加申込書Ａ!$C$12","v":0},{"$f":"参加申込書Ａ!$D$12","v":0},{"$f":"参加申込書Ａ!$B$13","v":0},{"$f":"参加申込書Ａ!$C$13","v":0},{"$f":"参加申込書Ａ!$D$13","v":0},{"$f":"参加申込書Ａ!$B$14","v":0},{"$f":"参加申込書Ａ!$C$14","v":0},{"$f":"参加申込書Ａ!$D$14","v":0}]
[{"$f":"参加申込書Ｂ!A12","v":0},{"$f":"参加申込書Ｂ!B12","v":0},{"$f":"参加申込書Ｂ!C12","v":0},{"$f":"参加申込書Ｂ!D12","v":0},{"$f":"参加申込書Ｂ!E12","v":0},{"$f":"参加申込書Ｂ!F12","v":0},{"$f":"参加申込書Ｂ!G12","v":0},{"$f":"参加申込書Ｂ!H12","v":0},{"$f":"参加申込書Ｂ!I12","v":0},{"$f":"参加申込書Ｂ!J12","v":0},{"$f":"参加申込書Ｂ!K12","v":0},{"$f":"参加申込書Ｂ!L12","v":0},{"$f":"参加申込書Ｂ!M12","v":0},{"$f":"出品票作成!$B$6","v":"選択"},{"$f":"参加申込書Ａ!$E$1","v":0},{"$f":"参加申込書Ａ!$B$6","v":"選択してください"},{"$f":"参加申込書Ａ!$B$9","v":"自動入力（上書入力可）"},{"$f":"参加申込書Ａ!$D$9","v":"自動入力（上書入力可）"},{"$f":"参加申込書Ａ!$B$8","v":0},{"$f":"参加申込書Ａ!$B$12","v":0},{"$f":"参加申込書Ａ!$C$12","v":0},{"$f":"参加申込書Ａ!$D$12","v":0},{"$f":"参加申込書Ａ!$B$13","v":0},{"$f":"参加申込書Ａ!$C$13","v":0},{"$f":"参加申込書Ａ!$D$13","v":0},{"$f":"参加申込書Ａ!$B$14","v":0},{"$f":"参加申込書Ａ!$C$14","v":0},{"$f":"参加申込書Ａ!$D$14","v":0}]
[{"$f":"参加申込書Ｂ!A13","v":0},{"$f":"参加申込書Ｂ!B13","v":0},{"$f":"参加申込書Ｂ!C13","v":0},{"$f":"参加申込書Ｂ!D13","v":0},{"$f":"参加申込書Ｂ!E13","v":0},{"$f":"参加申込書Ｂ!F13","v":0},{"$f":"参加申込書Ｂ!G13","v":0},{"$f":"参加申込書Ｂ!H13","v":0},{"$f":"参加申込書Ｂ!I13","v":0},{"$f":"参加申込書Ｂ!J13","v":0},{"$f":"参加申込書Ｂ!K13","v":0},{"$f":"参加申込書Ｂ!L13","v":0},{"$f":"参加申込書Ｂ!M13","v":0},{"$f":"出品票作成!$B$6","v":"選択"},{"$f":"参加申込書Ａ!$E$1","v":0},{"$f":"参加申込書Ａ!$B$6","v":"選択してください"},{"$f":"参加申込書Ａ!$B$9","v":"自動入力（上書入力可）"},{"$f":"参加申込書Ａ!$D$9","v":"自動入力（上書入力可）"},{"$f":"参加申込書Ａ!$B$8","v":0},{"$f":"参加申込書Ａ!$B$12","v":0},{"$f":"参加申込書Ａ!$C$12","v":0},{"$f":"参加申込書Ａ!$D$12","v":0},{"$f":"参加申込書Ａ!$B$13","v":0},{"$f":"参加申込書Ａ!$C$13","v":0},{"$f":"参加申込書Ａ!$D$13","v":0},{"$f":"参加申込書Ａ!$B$14","v":0},{"$f":"参加申込書Ａ!$C$14","v":0},{"$f":"参加申込書Ａ!$D$14","v":0}]
[{"$f":"参加申込書Ｂ!A14","v":0},{"$f":"参加申込書Ｂ!B14","v":0},{"$f":"参加申込書Ｂ!C14","v":0},{"$f":"参加申込書Ｂ!D14","v":0},{"$f":"参加申込書Ｂ!E14","v":0},{"$f":"参加申込書Ｂ!F14","v":0},{"$f":"参加申込書Ｂ!G14","v":0},{"$f":"参加申込書Ｂ!H14","v":0},{"$f":"参加申込書Ｂ!I14","v":0},{"$f":"参加申込書Ｂ!J14","v":0},{"$f":"参加申込書Ｂ!K14","v":0},{"$f":"参加申込書Ｂ!L14","v":0},{"$f":"参加申込書Ｂ!M14","v":0},{"$f":"出品票作成!$B$6","v":"選択"},{"$f":"参加申込書Ａ!$E$1","v":0},{"$f":"参加申込書Ａ!$B$6","v":"選択してください"},{"$f":"参加申込書Ａ!$B$9","v":"自動入力（上書入力可）"},{"$f":"参加申込書Ａ!$D$9","v":"自動入力（上書入力可）"},{"$f":"参加申込書Ａ!$B$8","v":0},{"$f":"参加申込書Ａ!$B$12","v":0},{"$f":"参加申込書Ａ!$C$12","v":0},{"$f":"参加申込書Ａ!$D$12","v":0},{"$f":"参加申込書Ａ!$B$13","v":0},{"$f":"参加申込書Ａ!$C$13","v":0},{"$f":"参加申込書Ａ!$D$13","v":0},{"$f":"参加申込書Ａ!$B$14","v":0},{"$f":"参加申込書Ａ!$C$14","v":0},{"$f":"参加申込書Ａ!$D$14","v":0}]
[{"$f":"参加申込書Ｂ!A15","v":0},{"$f":"参加申込書Ｂ!B15","v":0},{"$f":"参加申込書Ｂ!C15","v":0},{"$f":"参加申込書Ｂ!D15","v":0},{"$f":"参加申込書Ｂ!E15","v":0},{"$f":"参加申込書Ｂ!F15","v":0},{"$f":"参加申込書Ｂ!G15","v":0},{"$f":"参加申込書Ｂ!H15","v":0},{"$f":"参加申込書Ｂ!I15","v":0},{"$f":"参加申込書Ｂ!J15","v":0},{"$f":"参加申込書Ｂ!K15","v":0},{"$f":"参加申込書Ｂ!L15","v":0},{"$f":"参加申込書Ｂ!M15","v":0},{"$f":"出品票作成!$B$6","v":"選択"},{"$f":"参加申込書Ａ!$E$1","v":0},{"$f":"参加申込書Ａ!$B$6","v":"選択してください"},{"$f":"参加申込書Ａ!$B$9","v":"自動入力（上書入力可）"},{"$f":"参加申込書Ａ!$D$9","v":"自動入力（上書入力可）"},{"$f":"参加申込書Ａ!$B$8","v":0},{"$f":"参加申込書Ａ!$B$12","v":0},{"$f":"参加申込書Ａ!$C$12","v":0},{"$f":"参加申込書Ａ!$D$12","v":0},{"$f":"参加申込書Ａ!$B$13","v":0},{"$f":"参加申込書Ａ!$C$13","v":0},{"$f":"参加申込書Ａ!$D$13","v":0},{"$f":"参加申込書Ａ!$B$14","v":0},{"$f":"参加申込書Ａ!$C$14","v":0},{"$f":"参加申込書Ａ!$D$14","v":0}]
[{"$f":"参加申込書Ｂ!A16","v":0},{"$f":"参加申込書Ｂ!B16","v":0},{"$f":"参加申込書Ｂ!C16","v":0},{"$f":"参加申込書Ｂ!D16","v":0},{"$f":"参加申込書Ｂ!E16","v":0},{"$f":"参加申込書Ｂ!F16","v":0},{"$f":"参加申込書Ｂ!G16","v":0},{"$f":"参加申込書Ｂ!H16","v":0},{"$f":"参加申込書Ｂ!I16","v":0},{"$f":"参加申込書Ｂ!J16","v":0},{"$f":"参加申込書Ｂ!K16","v":0},{"$f":"参加申込書Ｂ!L16","v":0},{"$f":"参加申込書Ｂ!M16","v":0},{"$f":"出品票作成!$B$6","v":"選択"},{"$f":"参加申込書Ａ!$E$1","v":0},{"$f":"参加申込書Ａ!$B$6","v":"選択してください"},{"$f":"参加申込書Ａ!$B$9","v":"自動入力（上書入力可）"},{"$f":"参加申込書Ａ!$D$9","v":"自動入力（上書入力可）"},{"$f":"参加申込書Ａ!$B$8","v":0},{"$f":"参加申込書Ａ!$B$12","v":0},{"$f":"参加申込書Ａ!$C$12","v":0},{"$f":"参加申込書Ａ!$D$12","v":0},{"$f":"参加申込書Ａ!$B$13","v":0},{"$f":"参加申込書Ａ!$C$13","v":0},{"$f":"参加申込書Ａ!$D$13","v":0},{"$f":"参加申込書Ａ!$B$14","v":0},{"$f":"参加申込書Ａ!$C$14","v":0},{"$f":"参加申込書Ａ!$D$14","v":0}]
[{"$f":"参加申込書Ｂ!A17","v":0},{"$f":"参加申込書Ｂ!B17","v":0},{"$f":"参加申込書Ｂ!C17","v":0},{"$f":"参加申込書Ｂ!D17","v":0},{"$f":"参加申込書Ｂ!E17","v":0},{"$f":"参加申込書Ｂ!F17","v":0},{"$f":"参加申込書Ｂ!G17","v":0},{"$f":"参加申込書Ｂ!H17","v":0},{"$f":"参加申込書Ｂ!I17","v":0},{"$f":"参加申込書Ｂ!J17","v":0},{"$f":"参加申込書Ｂ!K17","v":0},{"$f":"参加申込書Ｂ!L17","v":0},{"$f":"参加申込書Ｂ!M17","v":0},{"$f":"出品票作成!$B$6","v":"選択"},{"$f":"参加申込書Ａ!$E$1","v":0},{"$f":"参加申込書Ａ!$B$6","v":"選択してください"},{"$f":"参加申込書Ａ!$B$9","v":"自動入力（上書入力可）"},{"$f":"参加申込書Ａ!$D$9","v":"自動入力（上書入力可）"},{"$f":"参加申込書Ａ!$B$8","v":0},{"$f":"参加申込書Ａ!$B$12","v":0},{"$f":"参加申込書Ａ!$C$12","v":0},{"$f":"参加申込書Ａ!$D$12","v":0},{"$f":"参加申込書Ａ!$B$13","v":0},{"$f":"参加申込書Ａ!$C$13","v":0},{"$f":"参加申込書Ａ!$D$13","v":0},{"$f":"参加申込書Ａ!$B$14","v":0},{"$f":"参加申込書Ａ!$C$14","v":0},{"$f":"参加申込書Ａ!$D$14","v":0}]
[{"$f":"参加申込書Ｂ!A18","v":0},{"$f":"参加申込書Ｂ!B18","v":0},{"$f":"参加申込書Ｂ!C18","v":0},{"$f":"参加申込書Ｂ!D18","v":0},{"$f":"参加申込書Ｂ!E18","v":0},{"$f":"参加申込書Ｂ!F18","v":0},{"$f":"参加申込書Ｂ!G18","v":0},{"$f":"参加申込書Ｂ!H18","v":0},{"$f":"参加申込書Ｂ!I18","v":0},{"$f":"参加申込書Ｂ!J18","v":0},{"$f":"参加申込書Ｂ!K18","v":0},{"$f":"参加申込書Ｂ!L18","v":0},{"$f":"参加申込書Ｂ!M18","v":0},{"$f":"出品票作成!$B$6","v":"選択"},{"$f":"参加申込書Ａ!$E$1","v":0},{"$f":"参加申込書Ａ!$B$6","v":"選択してください"},{"$f":"参加申込書Ａ!$B$9","v":"自動入力（上書入力可）"},{"$f":"参加申込書Ａ!$D$9","v":"自動入力（上書入力可）"},{"$f":"参加申込書Ａ!$B$8","v":0},{"$f":"参加申込書Ａ!$B$12","v":0},{"$f":"参加申込書Ａ!$C$12","v":0},{"$f":"参加申込書Ａ!$D$12","v":0},{"$f":"参加申込書Ａ!$B$13","v":0},{"$f":"参加申込書Ａ!$C$13","v":0},{"$f":"参加申込書Ａ!$D$13","v":0},{"$f":"参加申込書Ａ!$B$14","v":0},{"$f":"参加申込書Ａ!$C$14","v":0},{"$f":"参加申込書Ａ!$D$14","v":0}]
[{"$f":"参加申込書Ｂ!A19","v":0},{"$f":"参加申込書Ｂ!B19","v":0},{"$f":"参加申込書Ｂ!C19","v":0},{"$f":"参加申込書Ｂ!D19","v":0},{"$f":"参加申込書Ｂ!E19","v":0},{"$f":"参加申込書Ｂ!F19","v":0},{"$f":"参加申込書Ｂ!G19","v":0},{"$f":"参加申込書Ｂ!H19","v":0},{"$f":"参加申込書Ｂ!I19","v":0},{"$f":"参加申込書Ｂ!J19","v":0},{"$f":"参加申込書Ｂ!K19","v":0},{"$f":"参加申込書Ｂ!L19","v":0},{"$f":"参加申込書Ｂ!M19","v":0},{"$f":"出品票作成!$B$6","v":"選択"},{"$f":"参加申込書Ａ!$E$1","v":0},{"$f":"参加申込書Ａ!$B$6","v":"選択してください"},{"$f":"参加申込書Ａ!$B$9","v":"自動入力（上書入力可）"},{"$f":"参加申込書Ａ!$D$9","v":"自動入力（上書入力可）"},{"$f":"参加申込書Ａ!$B$8","v":0},{"$f":"参加申込書Ａ!$B$12","v":0},{"$f":"参加申込書Ａ!$C$12","v":0},{"$f":"参加申込書Ａ!$D$12","v":0},{"$f":"参加申込書Ａ!$B$13","v":0},{"$f":"参加申込書Ａ!$C$13","v":0},{"$f":"参加申込書Ａ!$D$13","v":0},{"$f":"参加申込書Ａ!$B$14","v":0},{"$f":"参加申込書Ａ!$C$14","v":0},{"$f":"参加申込書Ａ!$D$14","v":0}]
[{"$f":"参加申込書Ｂ!A20","v":0},{"$f":"参加申込書Ｂ!B20","v":0},{"$f":"参加申込書Ｂ!C20","v":0},{"$f":"参加申込書Ｂ!D20","v":0},{"$f":"参加申込書Ｂ!E20","v":0},{"$f":"参加申込書Ｂ!F20","v":0},{"$f":"参加申込書Ｂ!G20","v":0},{"$f":"参加申込書Ｂ!H20","v":0},{"$f":"参加申込書Ｂ!I20","v":0},{"$f":"参加申込書Ｂ!J20","v":0},{"$f":"参加申込書Ｂ!K20","v":0},{"$f":"参加申込書Ｂ!L20","v":0},{"$f":"参加申込書Ｂ!M20","v":0},{"$f":"出品票作成!$B$6","v":"選択"},{"$f":"参加申込書Ａ!$E$1","v":0},{"$f":"参加申込書Ａ!$B$6","v":"選択してください"},{"$f":"参加申込書Ａ!$B$9","v":"自動入力（上書入力可）"},{"$f":"参加申込書Ａ!$D$9","v":"自動入力（上書入力可）"},{"$f":"参加申込書Ａ!$B$8","v":0},{"$f":"参加申込書Ａ!$B$12","v":0},{"$f":"参加申込書Ａ!$C$12","v":0},{"$f":"参加申込書Ａ!$D$12","v":0},{"$f":"参加申込書Ａ!$B$13","v":0},{"$f":"参加申込書Ａ!$C$13","v":0},{"$f":"参加申込書Ａ!$D$13","v":0},{"$f":"参加申込書Ａ!$B$14","v":0},{"$f":"参加申込書Ａ!$C$14","v":0},{"$f":"参加申込書Ａ!$D$14","v":0}]
[{"$f":"参加申込書Ｂ!A21","v":0},{"$f":"参加申込書Ｂ!B21","v":0},{"$f":"参加申込書Ｂ!C21","v":0},{"$f":"参加申込書Ｂ!D21","v":0},{"$f":"参加申込書Ｂ!E21","v":0},{"$f":"参加申込書Ｂ!F21","v":0},{"$f":"参加申込書Ｂ!G21","v":0},{"$f":"参加申込書Ｂ!H21","v":0},{"$f":"参加申込書Ｂ!I21","v":0},{"$f":"参加申込書Ｂ!J21","v":0},{"$f":"参加申込書Ｂ!K21","v":0},{"$f":"参加申込書Ｂ!L21","v":0},{"$f":"参加申込書Ｂ!M21","v":0},{"$f":"出品票作成!$B$6","v":"選択"},{"$f":"参加申込書Ａ!$E$1","v":0},{"$f":"参加申込書Ａ!$B$6","v":"選択してください"},{"$f":"参加申込書Ａ!$B$9","v":"自動入力（上書入力可）"},{"$f":"参加申込書Ａ!$D$9","v":"自動入力（上書入力可）"},{"$f":"参加申込書Ａ!$B$8","v":0},{"$f":"参加申込書Ａ!$B$12","v":0},{"$f":"参加申込書Ａ!$C$12","v":0},{"$f":"参加申込書Ａ!$D$12","v":0},{"$f":"参加申込書Ａ!$B$13","v":0},{"$f":"参加申込書Ａ!$C$13","v":0},{"$f":"参加申込書Ａ!$D$13","v":0},{"$f":"参加申込書Ａ!$B$14","v":0},{"$f":"参加申込書Ａ!$C$14","v":0},{"$f":"参加申込書Ａ!$D$14","v":0}]
[{"$f":"参加申込書Ｂ!A22","v":0},{"$f":"参加申込書Ｂ!B22","v":0},{"$f":"参加申込書Ｂ!C22","v":0},{"$f":"参加申込書Ｂ!D22","v":0},{"$f":"参加申込書Ｂ!E22","v":0},{"$f":"参加申込書Ｂ!F22","v":0},{"$f":"参加申込書Ｂ!G22","v":0},{"$f":"参加申込書Ｂ!H22","v":0},{"$f":"参加申込書Ｂ!I22","v":0},{"$f":"参加申込書Ｂ!J22","v":0},{"$f":"参加申込書Ｂ!K22","v":0},{"$f":"参加申込書Ｂ!L22","v":0},{"$f":"参加申込書Ｂ!M22","v":0},{"$f":"出品票作成!$B$6","v":"選択"},{"$f":"参加申込書Ａ!$E$1","v":0},{"$f":"参加申込書Ａ!$B$6","v":"選択してください"},{"$f":"参加申込書Ａ!$B$9","v":"自動入力（上書入力可）"},{"$f":"参加申込書Ａ!$D$9","v":"自動入力（上書入力可）"},{"$f":"参加申込書Ａ!$B$8","v":0},{"$f":"参加申込書Ａ!$B$12","v":0},{"$f":"参加申込書Ａ!$C$12","v":0},{"$f":"参加申込書Ａ!$D$12","v":0},{"$f":"参加申込書Ａ!$B$13","v":0},{"$f":"参加申込書Ａ!$C$13","v":0},{"$f":"参加申込書Ａ!$D$13","v":0},{"$f":"参加申込書Ａ!$B$14","v":0},{"$f":"参加申込書Ａ!$C$14","v":0},{"$f":"参加申込書Ａ!$D$14","v":0}]
[{"$f":"参加申込書Ｂ!A23","v":0},{"$f":"参加申込書Ｂ!B23","v":0},{"$f":"参加申込書Ｂ!C23","v":0},{"$f":"参加申込書Ｂ!D23","v":0},{"$f":"参加申込書Ｂ!E23","v":0},{"$f":"参加申込書Ｂ!F23","v":0},{"$f":"参加申込書Ｂ!G23","v":0},{"$f":"参加申込書Ｂ!H23","v":0},{"$f":"参加申込書Ｂ!I23","v":0},{"$f":"参加申込書Ｂ!J23","v":0},{"$f":"参加申込書Ｂ!K23","v":0},{"$f":"参加申込書Ｂ!L23","v":0},{"$f":"参加申込書Ｂ!M23","v":0},{"$f":"出品票作成!$B$6","v":"選択"},{"$f":"参加申込書Ａ!$E$1","v":0},{"$f":"参加申込書Ａ!$B$6","v":"選択してください"},{"$f":"参加申込書Ａ!$B$9","v":"自動入力（上書入力可）"},{"$f":"参加申込書Ａ!$D$9","v":"自動入力（上書入力可）"},{"$f":"参加申込書Ａ!$B$8","v":0},{"$f":"参加申込書Ａ!$B$12","v":0},{"$f":"参加申込書Ａ!$C$12","v":0},{"$f":"参加申込書Ａ!$D$12","v":0},{"$f":"参加申込書Ａ!$B$13","v":0},{"$f":"参加申込書Ａ!$C$13","v":0},{"$f":"参加申込書Ａ!$D$13","v":0},{"$f":"参加申込書Ａ!$B$14","v":0},{"$f":"参加申込書Ａ!$C$14","v":0},{"$f":"参加申込書Ａ!$D$14","v":0}]
[{"$f":"参加申込書Ｂ!A24","v":0},{"$f":"参加申込書Ｂ!B24","v":0},{"$f":"参加申込書Ｂ!C24","v":0},{"$f":"参加申込書Ｂ!D24","v":0},{"$f":"参加申込書Ｂ!E24","v":0},{"$f":"参加申込書Ｂ!F24","v":0},{"$f":"参加申込書Ｂ!G24","v":0},{"$f":"参加申込書Ｂ!H24","v":0},{"$f":"参加申込書Ｂ!I24","v":0},{"$f":"参加申込書Ｂ!J24","v":0},{"$f":"参加申込書Ｂ!K24","v":0},{"$f":"参加申込書Ｂ!L24","v":0},{"$f":"参加申込書Ｂ!M24","v":0},{"$f":"出品票作成!$B$6","v":"選択"},{"$f":"参加申込書Ａ!$E$1","v":0},{"$f":"参加申込書Ａ!$B$6","v":"選択してください"},{"$f":"参加申込書Ａ!$B$9","v":"自動入力（上書入力可）"},{"$f":"参加申込書Ａ!$D$9","v":"自動入力（上書入力可）"},{"$f":"参加申込書Ａ!$B$8","v":0},{"$f":"参加申込書Ａ!$B$12","v":0},{"$f":"参加申込書Ａ!$C$12","v":0},{"$f":"参加申込書Ａ!$D$12","v":0},{"$f":"参加申込書Ａ!$B$13","v":0},{"$f":"参加申込書Ａ!$C$13","v":0},{"$f":"参加申込書Ａ!$D$13","v":0},{"$f":"参加申込書Ａ!$B$14","v":0},{"$f":"参加申込書Ａ!$C$14","v":0},{"$f":"参加申込書Ａ!$D$14","v":0}]
[{"$f":"参加申込書Ｂ!A25","v":0},{"$f":"参加申込書Ｂ!B25","v":0},{"$f":"参加申込書Ｂ!C25","v":0},{"$f":"参加申込書Ｂ!D25","v":0},{"$f":"参加申込書Ｂ!E25","v":0},{"$f":"参加申込書Ｂ!F25","v":0},{"$f":"参加申込書Ｂ!G25","v":0},{"$f":"参加申込書Ｂ!H25","v":0},{"$f":"参加申込書Ｂ!I25","v":0},{"$f":"参加申込書Ｂ!J25","v":0},{"$f":"参加申込書Ｂ!K25","v":0},{"$f":"参加申込書Ｂ!L25","v":0},{"$f":"参加申込書Ｂ!M25","v":0},{"$f":"出品票作成!$B$6","v":"選択"},{"$f":"参加申込書Ａ!$E$1","v":0},{"$f":"参加申込書Ａ!$B$6","v":"選択してください"},{"$f":"参加申込書Ａ!$B$9","v":"自動入力（上書入力可）"},{"$f":"参加申込書Ａ!$D$9","v":"自動入力（上書入力可）"},{"$f":"参加申込書Ａ!$B$8","v":0},{"$f":"参加申込書Ａ!$B$12","v":0},{"$f":"参加申込書Ａ!$C$12","v":0},{"$f":"参加申込書Ａ!$D$12","v":0},{"$f":"参加申込書Ａ!$B$13","v":0},{"$f":"参加申込書Ａ!$C$13","v":0},{"$f":"参加申込書Ａ!$D$13","v":0},{"$f":"参加申込書Ａ!$B$14","v":0},{"$f":"参加申込書Ａ!$C$14","v":0},{"$f":"参加申込書Ａ!$D$14","v":0}]
[{"$f":"参加申込書Ｂ!A26","v":0},{"$f":"参加申込書Ｂ!B26","v":0},{"$f":"参加申込書Ｂ!C26","v":0},{"$f":"参加申込書Ｂ!D26","v":0},{"$f":"参加申込書Ｂ!E26","v":0},{"$f":"参加申込書Ｂ!F26","v":0},{"$f":"参加申込書Ｂ!G26","v":0},{"$f":"参加申込書Ｂ!H26","v":0},{"$f":"参加申込書Ｂ!I26","v":0},{"$f":"参加申込書Ｂ!J26","v":0},{"$f":"参加申込書Ｂ!K26","v":0},{"$f":"参加申込書Ｂ!L26","v":0},{"$f":"参加申込書Ｂ!M26","v":0},{"$f":"出品票作成!$B$6","v":"選択"},{"$f":"参加申込書Ａ!$E$1","v":0},{"$f":"参加申込書Ａ!$B$6","v":"選択してください"},{"$f":"参加申込書Ａ!$B$9","v":"自動入力（上書入力可）"},{"$f":"参加申込書Ａ!$D$9","v":"自動入力（上書入力可）"},{"$f":"参加申込書Ａ!$B$8","v":0},{"$f":"参加申込書Ａ!$B$12","v":0},{"$f":"参加申込書Ａ!$C$12","v":0},{"$f":"参加申込書Ａ!$D$12","v":0},{"$f":"参加申込書Ａ!$B$13","v":0},{"$f":"参加申込書Ａ!$C$13","v":0},{"$f":"参加申込書Ａ!$D$13","v":0},{"$f":"参加申込書Ａ!$B$14","v":0},{"$f":"参加申込書Ａ!$C$14","v":0},{"$f":"参加申込書Ａ!$D$14","v":0}]
[{"$f":"参加申込書Ｂ!A27","v":0},{"$f":"参加申込書Ｂ!B27","v":0},{"$f":"参加申込書Ｂ!C27","v":0},{"$f":"参加申込書Ｂ!D27","v":0},{"$f":"参加申込書Ｂ!E27","v":0},{"$f":"参加申込書Ｂ!F27","v":0},{"$f":"参加申込書Ｂ!G27","v":0},{"$f":"参加申込書Ｂ!H27","v":0},{"$f":"参加申込書Ｂ!I27","v":0},{"$f":"参加申込書Ｂ!J27","v":0},{"$f":"参加申込書Ｂ!K27","v":0},{"$f":"参加申込書Ｂ!L27","v":0},{"$f":"参加申込書Ｂ!M27","v":0},{"$f":"出品票作成!$B$6","v":"選択"},{"$f":"参加申込書Ａ!$E$1","v":0},{"$f":"参加申込書Ａ!$B$6","v":"選択してください"},{"$f":"参加申込書Ａ!$B$9","v":"自動入力（上書入力可）"},{"$f":"参加申込書Ａ!$D$9","v":"自動入力（上書入力可）"},{"$f":"参加申込書Ａ!$B$8","v":0},{"$f":"参加申込書Ａ!$B$12","v":0},{"$f":"参加申込書Ａ!$C$12","v":0},{"$f":"参加申込書Ａ!$D$12","v":0},{"$f":"参加申込書Ａ!$B$13","v":0},{"$f":"参加申込書Ａ!$C$13","v":0},{"$f":"参加申込書Ａ!$D$13","v":0},{"$f":"参加申込書Ａ!$B$14","v":0},{"$f":"参加申込書Ａ!$C$14","v":0},{"$f":"参加申込書Ａ!$D$14","v":0}]
[{"$f":"参加申込書Ｂ!A28","v":0},{"$f":"参加申込書Ｂ!B28","v":0},{"$f":"参加申込書Ｂ!C28","v":0},{"$f":"参加申込書Ｂ!D28","v":0},{"$f":"参加申込書Ｂ!E28","v":0},{"$f":"参加申込書Ｂ!F28","v":0},{"$f":"参加申込書Ｂ!G28","v":0},{"$f":"参加申込書Ｂ!H28","v":0},{"$f":"参加申込書Ｂ!I28","v":0},{"$f":"参加申込書Ｂ!J28","v":0},{"$f":"参加申込書Ｂ!K28","v":0},{"$f":"参加申込書Ｂ!L28","v":0},{"$f":"参加申込書Ｂ!M28","v":0},{"$f":"出品票作成!$B$6","v":"選択"},{"$f":"参加申込書Ａ!$E$1","v":0},{"$f":"参加申込書Ａ!$B$6","v":"選択してください"},{"$f":"参加申込書Ａ!$B$9","v":"自動入力（上書入力可）"},{"$f":"参加申込書Ａ!$D$9","v":"自動入力（上書入力可）"},{"$f":"参加申込書Ａ!$B$8","v":0},{"$f":"参加申込書Ａ!$B$12","v":0},{"$f":"参加申込書Ａ!$C$12","v":0},{"$f":"参加申込書Ａ!$D$12","v":0},{"$f":"参加申込書Ａ!$B$13","v":0},{"$f":"参加申込書Ａ!$C$13","v":0},{"$f":"参加申込書Ａ!$D$13","v":0},{"$f":"参加申込書Ａ!$B$14","v":0},{"$f":"参加申込書Ａ!$C$14","v":0},{"$f":"参加申込書Ａ!$D$14","v":0}]
[{"$f":"参加申込書Ｂ!A29","v":0},{"$f":"参加申込書Ｂ!B29","v":0},{"$f":"参加申込書Ｂ!C29","v":0},{"$f":"参加申込書Ｂ!D29","v":0},{"$f":"参加申込書Ｂ!E29","v":0},{"$f":"参加申込書Ｂ!F29","v":0},{"$f":"参加申込書Ｂ!G29","v":0},{"$f":"参加申込書Ｂ!H29","v":0},{"$f":"参加申込書Ｂ!I29","v":0},{"$f":"参加申込書Ｂ!J29","v":0},{"$f":"参加申込書Ｂ!K29","v":0},{"$f":"参加申込書Ｂ!L29","v":0},{"$f":"参加申込書Ｂ!M29","v":0},{"$f":"出品票作成!$B$6","v":"選択"},{"$f":"参加申込書Ａ!$E$1","v":0},{"$f":"参加申込書Ａ!$B$6","v":"選択してください"},{"$f":"参加申込書Ａ!$B$9","v":"自動入力（上書入力可）"},{"$f":"参加申込書Ａ!$D$9","v":"自動入力（上書入力可）"},{"$f":"参加申込書Ａ!$B$8","v":0},{"$f":"参加申込書Ａ!$B$12","v":0},{"$f":"参加申込書Ａ!$C$12","v":0},{"$f":"参加申込書Ａ!$D$12","v":0},{"$f":"参加申込書Ａ!$B$13","v":0},{"$f":"参加申込書Ａ!$C$13","v":0},{"$f":"参加申込書Ａ!$D$13","v":0},{"$f":"参加申込書Ａ!$B$14","v":0},{"$f":"参加申込書Ａ!$C$14","v":0},{"$f":"参加申込書Ａ!$D$14","v":0}]
[{"$f":"参加申込書Ｂ!A30","v":0},{"$f":"参加申込書Ｂ!B30","v":0},{"$f":"参加申込書Ｂ!C30","v":0},{"$f":"参加申込書Ｂ!D30","v":0},{"$f":"参加申込書Ｂ!E30","v":0},{"$f":"参加申込書Ｂ!F30","v":0},{"$f":"参加申込書Ｂ!G30","v":0},{"$f":"参加申込書Ｂ!H30","v":0},{"$f":"参加申込書Ｂ!I30","v":0},{"$f":"参加申込書Ｂ!J30","v":0},{"$f":"参加申込書Ｂ!K30","v":0},{"$f":"参加申込書Ｂ!L30","v":0},{"$f":"参加申込書Ｂ!M30","v":0},{"$f":"出品票作成!$B$6","v":"選択"},{"$f":"参加申込書Ａ!$E$1","v":0},{"$f":"参加申込書Ａ!$B$6","v":"選択してください"},{"$f":"参加申込書Ａ!$B$9","v":"自動入力（上書入力可）"},{"$f":"参加申込書Ａ!$D$9","v":"自動入力（上書入力可）"},{"$f":"参加申込書Ａ!$B$8","v":0},{"$f":"参加申込書Ａ!$B$12","v":0},{"$f":"参加申込書Ａ!$C$12","v":0},{"$f":"参加申込書Ａ!$D$12","v":0},{"$f":"参加申込書Ａ!$B$13","v":0},{"$f":"参加申込書Ａ!$C$13","v":0},{"$f":"参加申込書Ａ!$D$13","v":0},{"$f":"参加申込書Ａ!$B$14","v":0},{"$f":"参加申込書Ａ!$C$14","v":0},{"$f":"参加申込書Ａ!$D$14","v":0}]
[{"$f":"参加申込書Ｂ!A31","v":0},{"$f":"参加申込書Ｂ!B31","v":0},{"$f":"参加申込書Ｂ!C31","v":0},{"$f":"参加申込書Ｂ!D31","v":0},{"$f":"参加申込書Ｂ!E31","v":0},{"$f":"参加申込書Ｂ!F31","v":0},{"$f":"参加申込書Ｂ!G31","v":0},{"$f":"参加申込書Ｂ!H31","v":0},{"$f":"参加申込書Ｂ!I31","v":0},{"$f":"参加申込書Ｂ!J31","v":0},{"$f":"参加申込書Ｂ!K31","v":0},{"$f":"参加申込書Ｂ!L31","v":0},{"$f":"参加申込書Ｂ!M31","v":0},{"$f":"出品票作成!$B$6","v":"選択"},{"$f":"参加申込書Ａ!$E$1","v":0},{"$f":"参加申込書Ａ!$B$6","v":"選択してください"},{"$f":"参加申込書Ａ!$B$9","v":"自動入力（上書入力可）"},{"$f":"参加申込書Ａ!$D$9","v":"自動入力（上書入力可）"},{"$f":"参加申込書Ａ!$B$8","v":0},{"$f":"参加申込書Ａ!$B$12","v":0},{"$f":"参加申込書Ａ!$C$12","v":0},{"$f":"参加申込書Ａ!$D$12","v":0},{"$f":"参加申込書Ａ!$B$13","v":0},{"$f":"参加申込書Ａ!$C$13","v":0},{"$f":"参加申込書Ａ!$D$13","v":0},{"$f":"参加申込書Ａ!$B$14","v":0},{"$f":"参加申込書Ａ!$C$14","v":0},{"$f":"参加申込書Ａ!$D$14","v":0}]
[{"$f":"参加申込書Ｂ!A32","v":0},{"$f":"参加申込書Ｂ!B32","v":0},{"$f":"参加申込書Ｂ!C32","v":0},{"$f":"参加申込書Ｂ!D32","v":0},{"$f":"参加申込書Ｂ!E32","v":0},{"$f":"参加申込書Ｂ!F32","v":0},{"$f":"参加申込書Ｂ!G32","v":0},{"$f":"参加申込書Ｂ!H32","v":0},{"$f":"参加申込書Ｂ!I32","v":0},{"$f":"参加申込書Ｂ!J32","v":0},{"$f":"参加申込書Ｂ!K32","v":0},{"$f":"参加申込書Ｂ!L32","v":0},{"$f":"参加申込書Ｂ!M32","v":0},{"$f":"出品票作成!$B$6","v":"選択"},{"$f":"参加申込書Ａ!$E$1","v":0},{"$f":"参加申込書Ａ!$B$6","v":"選択してください"},{"$f":"参加申込書Ａ!$B$9","v":"自動入力（上書入力可）"},{"$f":"参加申込書Ａ!$D$9","v":"自動入力（上書入力可）"},{"$f":"参加申込書Ａ!$B$8","v":0},{"$f":"参加申込書Ａ!$B$12","v":0},{"$f":"参加申込書Ａ!$C$12","v":0},{"$f":"参加申込書Ａ!$D$12","v":0},{"$f":"参加申込書Ａ!$B$13","v":0},{"$f":"参加申込書Ａ!$C$13","v":0},{"$f":"参加申込書Ａ!$D$13","v":0},{"$f":"参加申込書Ａ!$B$14","v":0},{"$f":"参加申込書Ａ!$C$14","v":0},{"$f":"参加申込書Ａ!$D$14","v":0}]
[{"$f":"参加申込書Ｂ!A33","v":0},{"$f":"参加申込書Ｂ!B33","v":0},{"$f":"参加申込書Ｂ!C33","v":0},{"$f":"参加申込書Ｂ!D33","v":0},{"$f":"参加申込書Ｂ!E33","v":0},{"$f":"参加申込書Ｂ!F33","v":0},{"$f":"参加申込書Ｂ!G33","v":0},{"$f":"参加申込書Ｂ!H33","v":0},{"$f":"参加申込書Ｂ!I33","v":0},{"$f":"参加申込書Ｂ!J33","v":0},{"$f":"参加申込書Ｂ!K33","v":0},{"$f":"参加申込書Ｂ!L33","v":0},{"$f":"参加申込書Ｂ!M33","v":0},{"$f":"出品票作成!$B$6","v":"選択"},{"$f":"参加申込書Ａ!$E$1","v":0},{"$f":"参加申込書Ａ!$B$6","v":"選択してください"},{"$f":"参加申込書Ａ!$B$9","v":"自動入力（上書入力可）"},{"$f":"参加申込書Ａ!$D$9","v":"自動入力（上書入力可）"},{"$f":"参加申込書Ａ!$B$8","v":0},{"$f":"参加申込書Ａ!$B$12","v":0},{"$f":"参加申込書Ａ!$C$12","v":0},{"$f":"参加申込書Ａ!$D$12","v":0},{"$f":"参加申込書Ａ!$B$13","v":0},{"$f":"参加申込書Ａ!$C$13","v":0},{"$f":"参加申込書Ａ!$D$13","v":0},{"$f":"参加申込書Ａ!$B$14","v":0},{"$f":"参加申込書Ａ!$C$14","v":0},{"$f":"参加申込書Ａ!$D$14","v":0}]

{"sheet":"summary (2)","index":9,"n_rows":4,"n_cols":16,"rows_kept":4,"cut":false,"hidden":false,"merged":[]}
["学校名","指導教員","氏名","メールアドレス","携帯、スマホ","講評会講師","(金)9:00～17:00(搬入)","(土)9:00～11:00(受付)","(土)11:00～13:0(受付)","(土)13:00～15:00(受付)","(土)15:00～17:00(受付)","(日)9:00～11:00(受付)","(日)11:00～13:00(受付)","(日)13:00～15:00(受付)","(日)15:00～17:00(搬出)","備考"]
[{"$f":"参加申込書Ａ!$B$6","v":"選択してください"},{"$f":"参加申込書Ａ!A12","v":"1（主顧問：必須）"},{"$f":"参加申込書Ａ!B12","v":0},{"$f":"参加申込書Ａ!C12","v":0},{"$f":"参加申込書Ａ!D12","v":0},{"$f":"運営要員調査票!C4","v":0},{"$f":"運営要員調査票!D4","v":0},{"$f":"運営要員調査票!E4","v":0},{"$f":"運営要員調査票!F4","v":0},{"$f":"運営要員調査票!G4","v":0},{"$f":"運営要員調査票!H4","v":0},{"$f":"運営要員調査票!I4","v":0},{"$f":"運営要員調査票!J4","v":0},{"$f":"運営要員調査票!K4","v":0},{"$f":"運営要員調査票!L4","v":0},{"$f":"運営要員調査票!M4","v":0}]
[{"$f":"参加申込書Ａ!$B$6","v":"選択してください"},{"$f":"参加申込書Ａ!A13","v":"2（副顧問：任意）"},{"$f":"参加申込書Ａ!B13","v":0},{"$f":"参加申込書Ａ!C13","v":0},{"$f":"参加申込書Ａ!D13","v":0},{"$f":"運営要員調査票!C5","v":0},{"$f":"運営要員調査票!D5","v":0},{"$f":"運営要員調査票!E5","v":0},{"$f":"運営要員調査票!F5","v":0},{"$f":"運営要員調査票!G5","v":0},{"$f":"運営要員調査票!H5","v":0},{"$f":"運営要員調査票!I5","v":0},{"$f":"運営要員調査票!J5","v":0},{"$f":"運営要員調査票!K5","v":0},{"$f":"運営要員調査票!L5","v":0},{"$f":"運営要員調査票!M5","v":0}]
[{"$f":"参加申込書Ａ!$B$6","v":"選択してください"},{"$f":"参加申込書Ａ!A14","v":"3（副顧問：任意）"},{"$f":"参加申込書Ａ!B14","v":0},{"$f":"参加申込書Ａ!C14","v":0},{"$f":"参加申込書Ａ!D14","v":0},{"$f":"運営要員調査票!C6","v":0},{"$f":"運営要員調査票!D6","v":0},{"$f":"運営要員調査票!E6","v":0},{"$f":"運営要員調査票!F6","v":0},{"$f":"運営要員調査票!G6","v":0},{"$f":"運営要員調査票!H6","v":0},{"$f":"運営要員調査票!I6","v":0},{"$f":"運営要員調査票!J6","v":0},{"$f":"運営要員調査票!K6","v":0},{"$f":"運営要員調査票!L6","v":0},{"$f":"運営要員調査票!M6","v":0}]